BEGIN:VCALENDAR
VERSION:2.0
PRODID:-//ChamberMaster//Event Calendar 2.0//EN
METHOD:PUBLISH
X-PUBLISHED-TTL:P3D
REFRESH-INTERVAL:P3D
CALSCALE:GREGORIAN
BEGIN:VEVENT
DTSTART:20181215T230000Z
DTEND:20181216T050000Z
X-MICROSOFT-CDO-ALLDAYEVENT:FALSE
SUMMARY:Your Holiday Party at Evergreen Country Club
DESCRIPTION:Don't Miss "Your Holiday Party Comedy Nights" at Evergreen on \n\nSaturday December [pending]\n\n \n\n"Your Comedy Club Holiday Party" is designed for everyone...Individuals\, Couples\, Holiday parties\, Company Holiday parties...to enjoy a FUN night out\, Great entertainment\, and a delicious Holiday buffet dinner!\n\n \n\nEach evening starts off with complimentary butler-passed appetizers\n\nin The Pub\, next comes an elegant buffet dinner\, followed by entertainment from a headliner comedian\n\nand after you have laughed till it hurts you can stay and dance \n\nto a LIVE DJ.\n\n \n\nHere's the best part...\n\nthe whole evening including all taxes and service charge is \n\nONLY $55.00 per person!\n\n...add 3 drinks and the price is $70.00
X-ALT-DESC;FMTTYPE=text/html:<p class="font_8" style="background-attachment: scroll\; background-clip: border-box\; background-color: transparent\; background-image: none\; background-origin: padding-box\; background-position-x: 0px\; background-position-y: 0px\; background-repeat: repeat\; background-size: auto\; border-bottom-color: rgb(96\, 94\, 94)\; border-bottom-style: none\; border-bottom-width: 0px\; border-image-outset: 0\; border-image-repeat: stretch\; border-image-slice: 100%\; border-image-source: none\; border-image-width: 1\; border-left-color: rgb(96\, 94\, 94)\; border-left-style: none\; border-left-width: 0px\; border-right-color: rgb(96\, 94\, 94)\; border-right-style: none\; border-right-width: 0px\; border-top-color: rgb(96\, 94\, 94)\; border-top-style: none\; border-top-width: 0px\; color: rgb(96\, 94\, 94)\; font-family: din-next-w01-light\,din-next-w02-light\,din-next-w10-light\,sans-serif\; font-size: 15px\; font-size-adjust: none\; font-stretch: 100%\; font-style: normal\; font-variant: normal\; font-weight: 400\; letter-spacing: normal\; line-height: normal\; margin-bottom: 0px\; margin-left: 0px\; margin-right: 0px\; margin-top: 0px\; orphans: 2\; outline-color: invert\; outline-style: none\; outline-width: 0px\; padding-bottom: 0px\; padding-left: 0px\; padding-right: 0px\; padding-top: 0px\; pointer-events: auto\; text-align: center\; text-decoration: none\; text-indent: 0px\; text-transform: none\; vertical-align: baseline\; -webkit-text-stroke-width: 0px\; white-space: normal\; word-spacing: 0px\;">Don&#39\;t Miss &quot\;Your Holiday Party Comedy Nights&quot\; at Evergreen on&nbsp\;</p>\n\n<p class="font_8" style="background-attachment: scroll\; background-clip: border-box\; background-color: transparent\; background-image: none\; background-origin: padding-box\; background-position-x: 0px\; background-position-y: 0px\; background-repeat: repeat\; background-size: auto\; border-bottom-color: rgb(96\, 94\, 94)\; border-bottom-style: none\; border-bottom-width: 0px\; border-image-outset: 0\; border-image-repeat: stretch\; border-image-slice: 100%\; border-image-source: none\; border-image-width: 1\; border-left-color: rgb(96\, 94\, 94)\; border-left-style: none\; border-left-width: 0px\; border-right-color: rgb(96\, 94\, 94)\; border-right-style: none\; border-right-width: 0px\; border-top-color: rgb(96\, 94\, 94)\; border-top-style: none\; border-top-width: 0px\; color: rgb(96\, 94\, 94)\; font-family: din-next-w01-light\,din-next-w02-light\,din-next-w10-light\,sans-serif\; font-size: 15px\; font-size-adjust: none\; font-stretch: 100%\; font-style: normal\; font-variant: normal\; font-weight: 400\; letter-spacing: normal\; line-height: normal\; margin-bottom: 0px\; margin-left: 0px\; margin-right: 0px\; margin-top: 0px\; orphans: 2\; outline-color: invert\; outline-style: none\; outline-width: 0px\; padding-bottom: 0px\; padding-left: 0px\; padding-right: 0px\; padding-top: 0px\; pointer-events: auto\; text-align: center\; text-decoration: none\; text-indent: 0px\; text-transform: none\; vertical-align: baseline\; -webkit-text-stroke-width: 0px\; white-space: normal\; word-spacing: 0px\;">Saturday December [pending]</p>\n\n<p class="font_8" style="background-attachment: scroll\; background-clip: border-box\; background-color: transparent\; background-image: none\; background-origin: padding-box\; background-position-x: 0px\; background-position-y: 0px\; background-repeat: repeat\; background-size: auto\; border-bottom-color: rgb(96\, 94\, 94)\; border-bottom-style: none\; border-bottom-width: 0px\; border-image-outset: 0\; border-image-repeat: stretch\; border-image-slice: 100%\; border-image-source: none\; border-image-width: 1\; border-left-color: rgb(96\, 94\, 94)\; border-left-style: none\; border-left-width: 0px\; border-right-color: rgb(96\, 94\, 94)\; border-right-style: none\; border-right-width: 0px\; border-top-color: rgb(96\, 94\, 94)\; border-top-style: none\; border-top-width: 0px\; color: rgb(96\, 94\, 94)\; font-family: din-next-w01-light\,din-next-w02-light\,din-next-w10-light\,sans-serif\; font-size: 15px\; font-size-adjust: none\; font-stretch: 100%\; font-style: normal\; font-variant: normal\; font-weight: 400\; letter-spacing: normal\; line-height: normal\; margin-bottom: 0px\; margin-left: 0px\; margin-right: 0px\; margin-top: 0px\; orphans: 2\; outline-color: invert\; outline-style: none\; outline-width: 0px\; padding-bottom: 0px\; padding-left: 0px\; padding-right: 0px\; padding-top: 0px\; pointer-events: auto\; text-align: center\; text-decoration: none\; text-indent: 0px\; text-transform: none\; vertical-align: baseline\; -webkit-text-stroke-width: 0px\; white-space: normal\; word-spacing: 0px\;">&nbsp\;</p>\n\n<p class="font_8" style="background-attachment: scroll\; background-clip: border-box\; background-color: transparent\; background-image: none\; background-origin: padding-box\; background-position-x: 0px\; background-position-y: 0px\; background-repeat: repeat\; background-size: auto\; border-bottom-color: rgb(96\, 94\, 94)\; border-bottom-style: none\; border-bottom-width: 0px\; border-image-outset: 0\; border-image-repeat: stretch\; border-image-slice: 100%\; border-image-source: none\; border-image-width: 1\; border-left-color: rgb(96\, 94\, 94)\; border-left-style: none\; border-left-width: 0px\; border-right-color: rgb(96\, 94\, 94)\; border-right-style: none\; border-right-width: 0px\; border-top-color: rgb(96\, 94\, 94)\; border-top-style: none\; border-top-width: 0px\; color: rgb(96\, 94\, 94)\; font-family: din-next-w01-light\,din-next-w02-light\,din-next-w10-light\,sans-serif\; font-size: 15px\; font-size-adjust: none\; font-stretch: 100%\; font-style: normal\; font-variant: normal\; font-weight: 400\; letter-spacing: normal\; line-height: normal\; margin-bottom: 0px\; margin-left: 0px\; margin-right: 0px\; margin-top: 0px\; orphans: 2\; outline-color: invert\; outline-style: none\; outline-width: 0px\; padding-bottom: 0px\; padding-left: 0px\; padding-right: 0px\; padding-top: 0px\; pointer-events: auto\; text-align: center\; text-decoration: none\; text-indent: 0px\; text-transform: none\; vertical-align: baseline\; -webkit-text-stroke-width: 0px\; white-space: normal\; word-spacing: 0px\;">&quot\;Your Comedy Club Holiday Party&quot\; is designed for everyone...Individuals\, Couples\,&nbsp\;Holiday parties\, Company Holiday parties...to enjoy a FUN night out\, Great entertainment\, and a delicious Holiday buffet dinner!</p>\n\n<p class="font_8" style="background-attachment: scroll\; background-clip: border-box\; background-color: transparent\; background-image: none\; background-origin: padding-box\; background-position-x: 0px\; background-position-y: 0px\; background-repeat: repeat\; background-size: auto\; border-bottom-color: rgb(96\, 94\, 94)\; border-bottom-style: none\; border-bottom-width: 0px\; border-image-outset: 0\; border-image-repeat: stretch\; border-image-slice: 100%\; border-image-source: none\; border-image-width: 1\; border-left-color: rgb(96\, 94\, 94)\; border-left-style: none\; border-left-width: 0px\; border-right-color: rgb(96\, 94\, 94)\; border-right-style: none\; border-right-width: 0px\; border-top-color: rgb(96\, 94\, 94)\; border-top-style: none\; border-top-width: 0px\; color: rgb(96\, 94\, 94)\; font-family: din-next-w01-light\,din-next-w02-light\,din-next-w10-light\,sans-serif\; font-size: 15px\; font-size-adjust: none\; font-stretch: 100%\; font-style: normal\; font-variant: normal\; font-weight: 400\; letter-spacing: normal\; line-height: normal\; margin-bottom: 0px\; margin-left: 0px\; margin-right: 0px\; margin-top: 0px\; orphans: 2\; outline-color: invert\; outline-style: none\; outline-width: 0px\; padding-bottom: 0px\; padding-left: 0px\; padding-right: 0px\; padding-top: 0px\; pointer-events: auto\; text-align: center\; text-decoration: none\; text-indent: 0px\; text-transform: none\; vertical-align: baseline\; -webkit-text-stroke-width: 0px\; white-space: normal\; word-spacing: 0px\;">&nbsp\;</p>\n\n<p class="font_8" style="background-attachment: scroll\; background-clip: border-box\; background-color: transparent\; background-image: none\; background-origin: padding-box\; background-position-x: 0px\; background-position-y: 0px\; background-repeat: repeat\; background-size: auto\; border-bottom-color: rgb(96\, 94\, 94)\; border-bottom-style: none\; border-bottom-width: 0px\; border-image-outset: 0\; border-image-repeat: stretch\; border-image-slice: 100%\; border-image-source: none\; border-image-width: 1\; border-left-color: rgb(96\, 94\, 94)\; border-left-style: none\; border-left-width: 0px\; border-right-color: rgb(96\, 94\, 94)\; border-right-style: none\; border-right-width: 0px\; border-top-color: rgb(96\, 94\, 94)\; border-top-style: none\; border-top-width: 0px\; color: rgb(96\, 94\, 94)\; font-family: din-next-w01-light\,din-next-w02-light\,din-next-w10-light\,sans-serif\; font-size: 15px\; font-size-adjust: none\; font-stretch: 100%\; font-style: normal\; font-variant: normal\; font-weight: 400\; letter-spacing: normal\; line-height: normal\; margin-bottom: 0px\; margin-left: 0px\; margin-right: 0px\; margin-top: 0px\; orphans: 2\; outline-color: invert\; outline-style: none\; outline-width: 0px\; padding-bottom: 0px\; padding-left: 0px\; padding-right: 0px\; padding-top: 0px\; pointer-events: auto\; text-align: center\; text-decoration: none\; text-indent: 0px\; text-transform: none\; vertical-align: baseline\; -webkit-text-stroke-width: 0px\; white-space: normal\; word-spacing: 0px\;">Each evening starts off with complimentary butler-passed appetizers</p>\n\n<p class="font_8" style="background-attachment: scroll\; background-clip: border-box\; background-color: transparent\; background-image: none\; background-origin: padding-box\; background-position-x: 0px\; background-position-y: 0px\; background-repeat: repeat\; background-size: auto\; border-bottom-color: rgb(96\, 94\, 94)\; border-bottom-style: none\; border-bottom-width: 0px\; border-image-outset: 0\; border-image-repeat: stretch\; border-image-slice: 100%\; border-image-source: none\; border-image-width: 1\; border-left-color: rgb(96\, 94\, 94)\; border-left-style: none\; border-left-width: 0px\; border-right-color: rgb(96\, 94\, 94)\; border-right-style: none\; border-right-width: 0px\; border-top-color: rgb(96\, 94\, 94)\; border-top-style: none\; border-top-width: 0px\; color: rgb(96\, 94\, 94)\; font-family: din-next-w01-light\,din-next-w02-light\,din-next-w10-light\,sans-serif\; font-size: 15px\; font-size-adjust: none\; font-stretch: 100%\; font-style: normal\; font-variant: normal\; font-weight: 400\; letter-spacing: normal\; line-height: normal\; margin-bottom: 0px\; margin-left: 0px\; margin-right: 0px\; margin-top: 0px\; orphans: 2\; outline-color: invert\; outline-style: none\; outline-width: 0px\; padding-bottom: 0px\; padding-left: 0px\; padding-right: 0px\; padding-top: 0px\; pointer-events: auto\; text-align: center\; text-decoration: none\; text-indent: 0px\; text-transform: none\; vertical-align: baseline\; -webkit-text-stroke-width: 0px\; white-space: normal\; word-spacing: 0px\;">in The Pub\, next comes an elegant buffet dinner\, followed by entertainment from a headliner comedian</p>\n\n<p class="font_8" style="background-attachment: scroll\; background-clip: border-box\; background-color: transparent\; background-image: none\; background-origin: padding-box\; background-position-x: 0px\; background-position-y: 0px\; background-repeat: repeat\; background-size: auto\; border-bottom-color: rgb(96\, 94\, 94)\; border-bottom-style: none\; border-bottom-width: 0px\; border-image-outset: 0\; border-image-repeat: stretch\; border-image-slice: 100%\; border-image-source: none\; border-image-width: 1\; border-left-color: rgb(96\, 94\, 94)\; border-left-style: none\; border-left-width: 0px\; border-right-color: rgb(96\, 94\, 94)\; border-right-style: none\; border-right-width: 0px\; border-top-color: rgb(96\, 94\, 94)\; border-top-style: none\; border-top-width: 0px\; color: rgb(96\, 94\, 94)\; font-family: din-next-w01-light\,din-next-w02-light\,din-next-w10-light\,sans-serif\; font-size: 15px\; font-size-adjust: none\; font-stretch: 100%\; font-style: normal\; font-variant: normal\; font-weight: 400\; letter-spacing: normal\; line-height: normal\; margin-bottom: 0px\; margin-left: 0px\; margin-right: 0px\; margin-top: 0px\; orphans: 2\; outline-color: invert\; outline-style: none\; outline-width: 0px\; padding-bottom: 0px\; padding-left: 0px\; padding-right: 0px\; padding-top: 0px\; pointer-events: auto\; text-align: center\; text-decoration: none\; text-indent: 0px\; text-transform: none\; vertical-align: baseline\; -webkit-text-stroke-width: 0px\; white-space: normal\; word-spacing: 0px\;">and after you have laughed till it hurts you can stay and dance&nbsp\;</p>\n\n<p class="font_8" style="background-attachment: scroll\; background-clip: border-box\; background-color: transparent\; background-image: none\; background-origin: padding-box\; background-position-x: 0px\; background-position-y: 0px\; background-repeat: repeat\; background-size: auto\; border-bottom-color: rgb(96\, 94\, 94)\; border-bottom-style: none\; border-bottom-width: 0px\; border-image-outset: 0\; border-image-repeat: stretch\; border-image-slice: 100%\; border-image-source: none\; border-image-width: 1\; border-left-color: rgb(96\, 94\, 94)\; border-left-style: none\; border-left-width: 0px\; border-right-color: rgb(96\, 94\, 94)\; border-right-style: none\; border-right-width: 0px\; border-top-color: rgb(96\, 94\, 94)\; border-top-style: none\; border-top-width: 0px\; color: rgb(96\, 94\, 94)\; font-family: din-next-w01-light\,din-next-w02-light\,din-next-w10-light\,sans-serif\; font-size: 15px\; font-size-adjust: none\; font-stretch: 100%\; font-style: normal\; font-variant: normal\; font-weight: 400\; letter-spacing: normal\; line-height: normal\; margin-bottom: 0px\; margin-left: 0px\; margin-right: 0px\; margin-top: 0px\; orphans: 2\; outline-color: invert\; outline-style: none\; outline-width: 0px\; padding-bottom: 0px\; padding-left: 0px\; padding-right: 0px\; padding-top: 0px\; pointer-events: auto\; text-align: center\; text-decoration: none\; text-indent: 0px\; text-transform: none\; vertical-align: baseline\; -webkit-text-stroke-width: 0px\; white-space: normal\; word-spacing: 0px\;">to a LIVE DJ.</p>\n\n<p class="font_8" style="background-attachment: scroll\; background-clip: border-box\; background-color: transparent\; background-image: none\; background-origin: padding-box\; background-position-x: 0px\; background-position-y: 0px\; background-repeat: repeat\; background-size: auto\; border-bottom-color: rgb(96\, 94\, 94)\; border-bottom-style: none\; border-bottom-width: 0px\; border-image-outset: 0\; border-image-repeat: stretch\; border-image-slice: 100%\; border-image-source: none\; border-image-width: 1\; border-left-color: rgb(96\, 94\, 94)\; border-left-style: none\; border-left-width: 0px\; border-right-color: rgb(96\, 94\, 94)\; border-right-style: none\; border-right-width: 0px\; border-top-color: rgb(96\, 94\, 94)\; border-top-style: none\; border-top-width: 0px\; color: rgb(96\, 94\, 94)\; font-family: din-next-w01-light\,din-next-w02-light\,din-next-w10-light\,sans-serif\; font-size: 15px\; font-size-adjust: none\; font-stretch: 100%\; font-style: normal\; font-variant: normal\; font-weight: 400\; letter-spacing: normal\; line-height: normal\; margin-bottom: 0px\; margin-left: 0px\; margin-right: 0px\; margin-top: 0px\; orphans: 2\; outline-color: invert\; outline-style: none\; outline-width: 0px\; padding-bottom: 0px\; padding-left: 0px\; padding-right: 0px\; padding-top: 0px\; pointer-events: auto\; text-align: center\; text-decoration: none\; text-indent: 0px\; text-transform: none\; vertical-align: baseline\; -webkit-text-stroke-width: 0px\; white-space: normal\; word-spacing: 0px\;">&nbsp\;</p>\n\n<p class="font_8" style="background-attachment: scroll\; background-clip: border-box\; background-color: transparent\; background-image: none\; background-origin: padding-box\; background-position-x: 0px\; background-position-y: 0px\; background-repeat: repeat\; background-size: auto\; border-bottom-color: rgb(96\, 94\, 94)\; border-bottom-style: none\; border-bottom-width: 0px\; border-image-outset: 0\; border-image-repeat: stretch\; border-image-slice: 100%\; border-image-source: none\; border-image-width: 1\; border-left-color: rgb(96\, 94\, 94)\; border-left-style: none\; border-left-width: 0px\; border-right-color: rgb(96\, 94\, 94)\; border-right-style: none\; border-right-width: 0px\; border-top-color: rgb(96\, 94\, 94)\; border-top-style: none\; border-top-width: 0px\; color: rgb(96\, 94\, 94)\; font-family: din-next-w01-light\,din-next-w02-light\,din-next-w10-light\,sans-serif\; font-size: 15px\; font-size-adjust: none\; font-stretch: 100%\; font-style: normal\; font-variant: normal\; font-weight: 400\; letter-spacing: normal\; line-height: normal\; margin-bottom: 0px\; margin-left: 0px\; margin-right: 0px\; margin-top: 0px\; orphans: 2\; outline-color: invert\; outline-style: none\; outline-width: 0px\; padding-bottom: 0px\; padding-left: 0px\; padding-right: 0px\; padding-top: 0px\; pointer-events: auto\; text-align: center\; text-decoration: none\; text-indent: 0px\; text-transform: none\; vertical-align: baseline\; -webkit-text-stroke-width: 0px\; white-space: normal\; word-spacing: 0px\;"><span style="background-attachment: scroll\; background-clip: border-box\; background-color: transparent\; background-image: none\; background-origin: padding-box\; background-position-x: 0px\; background-position-y: 0px\; background-repeat: repeat\; background-size: auto\; border-bottom-color: rgb(96\, 94\, 94)\; border-bottom-style: none\; border-bottom-width: 0px\; border-image-outset: 0\; border-image-repeat: stretch\; border-image-slice: 100%\; border-image-source: none\; border-image-width: 1\; border-left-color: rgb(96\, 94\, 94)\; border-left-style: none\; border-left-width: 0px\; border-right-color: rgb(96\, 94\, 94)\; border-right-style: none\; border-right-width: 0px\; border-top-color: rgb(96\, 94\, 94)\; border-top-style: none\; border-top-width: 0px\; font-weight: 700\; margin-bottom: 0px\; margin-left: 0px\; margin-right: 0px\; margin-top: 0px\; outline-color: invert\; outline-style: none\; outline-width: 0px\; padding-bottom: 0px\; padding-left: 0px\; padding-right: 0px\; padding-top: 0px\; vertical-align: baseline\;">Here&#39\;s the best part...</span></p>\n\n<p class="font_8" style="background-attachment: scroll\; background-clip: border-box\; background-color: transparent\; background-image: none\; background-origin: padding-box\; background-position-x: 0px\; background-position-y: 0px\; background-repeat: repeat\; background-size: auto\; border-bottom-color: rgb(96\, 94\, 94)\; border-bottom-style: none\; border-bottom-width: 0px\; border-image-outset: 0\; border-image-repeat: stretch\; border-image-slice: 100%\; border-image-source: none\; border-image-width: 1\; border-left-color: rgb(96\, 94\, 94)\; border-left-style: none\; border-left-width: 0px\; border-right-color: rgb(96\, 94\, 94)\; border-right-style: none\; border-right-width: 0px\; border-top-color: rgb(96\, 94\, 94)\; border-top-style: none\; border-top-width: 0px\; color: rgb(96\, 94\, 94)\; font-family: din-next-w01-light\,din-next-w02-light\,din-next-w10-light\,sans-serif\; font-size: 15px\; font-size-adjust: none\; font-stretch: 100%\; font-style: normal\; font-variant: normal\; font-weight: 400\; letter-spacing: normal\; line-height: normal\; margin-bottom: 0px\; margin-left: 0px\; margin-right: 0px\; margin-top: 0px\; orphans: 2\; outline-color: invert\; outline-style: none\; outline-width: 0px\; padding-bottom: 0px\; padding-left: 0px\; padding-right: 0px\; padding-top: 0px\; pointer-events: auto\; text-align: center\; text-decoration: none\; text-indent: 0px\; text-transform: none\; vertical-align: baseline\; -webkit-text-stroke-width: 0px\; white-space: normal\; word-spacing: 0px\;">the whole evening including all taxes and service charge is&nbsp\;</p>\n\n<p class="font_8" style="background-attachment: scroll\; background-clip: border-box\; background-color: transparent\; background-image: none\; background-origin: padding-box\; background-position-x: 0px\; background-position-y: 0px\; background-repeat: repeat\; background-size: auto\; border-bottom-color: rgb(96\, 94\, 94)\; border-bottom-style: none\; border-bottom-width: 0px\; border-image-outset: 0\; border-image-repeat: stretch\; border-image-slice: 100%\; border-image-source: none\; border-image-width: 1\; border-left-color: rgb(96\, 94\, 94)\; border-left-style: none\; border-left-width: 0px\; border-right-color: rgb(96\, 94\, 94)\; border-right-style: none\; border-right-width: 0px\; border-top-color: rgb(96\, 94\, 94)\; border-top-style: none\; border-top-width: 0px\; color: rgb(96\, 94\, 94)\; font-family: din-next-w01-light\,din-next-w02-light\,din-next-w10-light\,sans-serif\; font-size: 15px\; font-size-adjust: none\; font-stretch: 100%\; font-style: normal\; font-variant: normal\; font-weight: 400\; letter-spacing: normal\; line-height: normal\; margin-bottom: 0px\; margin-left: 0px\; margin-right: 0px\; margin-top: 0px\; orphans: 2\; outline-color: invert\; outline-style: none\; outline-width: 0px\; padding-bottom: 0px\; padding-left: 0px\; padding-right: 0px\; padding-top: 0px\; pointer-events: auto\; text-align: center\; text-decoration: none\; text-indent: 0px\; text-transform: none\; vertical-align: baseline\; -webkit-text-stroke-width: 0px\; white-space: normal\; word-spacing: 0px\;">ONLY $55.00 per person!</p>\n\n<p class="font_8" style="background-attachment: scroll\; background-clip: border-box\; background-color: transparent\; background-image: none\; background-origin: padding-box\; background-position-x: 0px\; background-position-y: 0px\; background-repeat: repeat\; background-size: auto\; border-bottom-color: rgb(96\, 94\, 94)\; border-bottom-style: none\; border-bottom-width: 0px\; border-image-outset: 0\; border-image-repeat: stretch\; border-image-slice: 100%\; border-image-source: none\; border-image-width: 1\; border-left-color: rgb(96\, 94\, 94)\; border-left-style: none\; border-left-width: 0px\; border-right-color: rgb(96\, 94\, 94)\; border-right-style: none\; border-right-width: 0px\; border-top-color: rgb(96\, 94\, 94)\; border-top-style: none\; border-top-width: 0px\; color: rgb(96\, 94\, 94)\; font-family: din-next-w01-light\,din-next-w02-light\,din-next-w10-light\,sans-serif\; font-size: 15px\; font-size-adjust: none\; font-stretch: 100%\; font-style: normal\; font-variant: normal\; font-weight: 400\; letter-spacing: normal\; line-height: normal\; margin-bottom: 0px\; margin-left: 0px\; margin-right: 0px\; margin-top: 0px\; orphans: 2\; outline-color: invert\; outline-style: none\; outline-width: 0px\; padding-bottom: 0px\; padding-left: 0px\; padding-right: 0px\; padding-top: 0px\; pointer-events: auto\; text-align: center\; text-decoration: none\; text-indent: 0px\; text-transform: none\; vertical-align: baseline\; -webkit-text-stroke-width: 0px\; white-space: normal\; word-spacing: 0px\;">...add 3 drinks and the price is $70.00</p>\n
LOCATION:Evergreen Country Club N6246 US Highway 12 Elkhorn\, Wisconsin 53121
UID:e.2059.8730
SEQUENCE:3
DTSTAMP:20260421T224323Z
URL:https://business.elkhornchamber.com/events/details/your-holiday-party-at-evergreen-country-club-12-15-2018-8730
END:VEVENT

END:VCALENDAR
