BEGIN:VCALENDAR
VERSION:2.0
PRODID:-//ChamberMaster//Event Calendar 2.0//EN
METHOD:PUBLISH
X-PUBLISHED-TTL:P3D
REFRESH-INTERVAL:P3D
CALSCALE:GREGORIAN
BEGIN:VEVENT
DTSTART:20191103T003000Z
DTEND:20191103T033000Z
X-MICROSOFT-CDO-ALLDAYEVENT:FALSE
SUMMARY:Young Auditorium presents Pam Tillis Acoustic Trio
DESCRIPTION:Country music superstar Pam Tillis brings her unmistakable sound to Young Auditorium for an intimate acoustic performance. With over 6 million records sold\, two Grammys\, and a CMA 'Vocalist of the Year' Award in her back pocket\, Pam will use this personal setting to perform stripped-down versions of her biggest hits including\, Maybe it was Memphis\, Spilled Perfume\, and Mi Vida Loca (My Crazy Life).
X-ALT-DESC;FMTTYPE=text/html:Country music superstar Pam Tillis brings her unmistakable sound to Young Auditorium for an intimate acoustic performance. With over 6 million records sold\, two Grammys\, and a CMA &#39\;Vocalist of the Year&#39\; Award in her back pocket\, Pam will use this personal setting to perform stripped-down versions of her biggest hits including\, Maybe it was Memphis\, Spilled Perfume\, and Mi Vida Loca (My Crazy Life).
LOCATION:Young Auditorium 930 West Main Street\, Whitewater
UID:e.2059.10995
SEQUENCE:3
DTSTAMP:20260420T055736Z
URL:https://business.elkhornchamber.com/events/details/young-auditorium-presents-pam-tillis-acoustic-trio-10995
END:VEVENT

END:VCALENDAR
