BEGIN:VCALENDAR
VERSION:2.0
PRODID:-//ChamberMaster//Event Calendar 2.0//EN
METHOD:PUBLISH
X-PUBLISHED-TTL:P3D
REFRESH-INTERVAL:P3D
CALSCALE:GREGORIAN
BEGIN:VEVENT
DTSTART:20200126T210000Z
DTEND:20200127T000000Z
X-MICROSOFT-CDO-ALLDAYEVENT:FALSE
SUMMARY:Young Auditorium & Never Too Young Series presents CInderella Florentine Opera
DESCRIPTION:The Florentine Opera Persents Cinderella\, weaving together music from the many opera settings of the story to set the classic tale. Sunday\, January 26th at 3:00 pm at the Young Auditorium
X-ALT-DESC;FMTTYPE=text/html:The Florentine Opera Persents Cinderella\, weaving together music from the many opera settings of the story to set the classic tale. Sunday\, January 26th at 3:00 pm at the Young Auditorium
LOCATION:Young Auditorium 930 West Main Street\, Whitewater
UID:e.2059.11001
SEQUENCE:3
DTSTAMP:20260419T182924Z
URL:https://business.elkhornchamber.com/events/details/young-auditorium-never-too-young-series-presents-cinderella-florentine-opera-11001
END:VEVENT

END:VCALENDAR
