BEGIN:VCALENDAR
VERSION:2.0
PRODID:-//ChamberMaster//Event Calendar 2.0//EN
METHOD:PUBLISH
X-PUBLISHED-TTL:P3D
REFRESH-INTERVAL:P3D
CALSCALE:GREGORIAN
BEGIN:VEVENT
DTSTART:20190104T220000Z
DTEND:20190104T230000Z
X-MICROSOFT-CDO-ALLDAYEVENT:FALSE
SUMMARY:Yoga Clinic
DESCRIPTION:Cime and join Rec Connect as we learn some Yoga moves from the instructors at Yoga Hohm in Delavan. Yoga is a great way to gain flexibility\, strenght\, and stamina among other heath benefits. This low impact form of exercise is great if you are looking to become more active in a fun environment that you can experience with friends.Yoga matts will be provided but please bring some water with you to the yoga class and wear athletic clothing that you can easily move around in. To join the fun please register by December 21st. There are only 10 spots available so be sure to register.
X-ALT-DESC;FMTTYPE=text/html:Cime and join Rec Connect as we learn some Yoga moves from the instructors at Yoga Hohm in Delavan. Yoga is a great way to gain flexibility\, strenght\, and stamina among other heath benefits. This low impact form of exercise is great if you are looking to become more active in a fun environment that you can experience with friends.Yoga matts will be provided but please bring some water with you to the yoga class and wear athletic clothing that you can easily move around in. To join the fun please register by December 21st. There are only 10 spots available so be sure to register.
LOCATION:Yoga Hohm 323 E. Walworth Ave.\, Delavan\,WI 53115
UID:e.2059.9742
SEQUENCE:3
DTSTAMP:20260421T204117Z
URL:https://business.elkhornchamber.com/events/details/yoga-clinic-9742
END:VEVENT

END:VCALENDAR
