BEGIN:VCALENDAR
VERSION:2.0
PRODID:-//ChamberMaster//Event Calendar 2.0//EN
METHOD:PUBLISH
X-PUBLISHED-TTL:P3D
REFRESH-INTERVAL:P3D
CALSCALE:GREGORIAN
BEGIN:VEVENT
DTSTART:20180609T140000Z
DTEND:20180609T170000Z
X-MICROSOFT-CDO-ALLDAYEVENT:FALSE
SUMMARY:Worldwide Knit In Public Day
DESCRIPTION:World Wide Knit in Public Day was started as a way for knitters to come together and enjoy each other's company.\n\nThis a specific day to get out of your house and go to a local event -- one just for knitters!
X-ALT-DESC;FMTTYPE=text/html:<p style="text-align:center"><span style="font-size:14px"><span style="color:rgb(68\, 68\, 68)\; font-family:source sans pro\,lucida sans unicode\,lucida grande\,verdana\,tahoma\,arial\,sans-serif">World Wide Knit in Public Day was started&nbsp\;as a way for knitters to come together and enjoy each other&rsquo\;s company.</span></span></p>\n\n<p style="text-align:center"><span style="font-size:14px"><span style="color:rgb(68\, 68\, 68)\; font-family:source sans pro\,lucida sans unicode\,lucida grande\,verdana\,tahoma\,arial\,sans-serif">This a specific day to get out of your house and go to a local event -- one&nbsp\;just for knitters!&nbsp\;</span></span></p>\n
LOCATION:Matheson Memorial Library
UID:e.2059.7608
SEQUENCE:3
DTSTAMP:20260422T073939Z
URL:https://business.elkhornchamber.com/events/details/worldwide-knit-in-public-day-7608
END:VEVENT

END:VCALENDAR
