BEGIN:VCALENDAR
VERSION:2.0
PRODID:-//ChamberMaster//Event Calendar 2.0//EN
METHOD:PUBLISH
X-PUBLISHED-TTL:P3D
REFRESH-INTERVAL:P3D
CALSCALE:GREGORIAN
BEGIN:VEVENT
DTSTART:20191120T160000Z
DTEND:20191120T170000Z
X-MICROSOFT-CDO-ALLDAYEVENT:FALSE
SUMMARY:Wonderful Wednesday!
DESCRIPTION:Painting! Creating! Cooking! Games! Activities! Join us on Wonderful Wednesday for a morning of fun with old friends and new.  We may be doing some messy things\, so be sure to wear old clothes.\n\nThis free program is geared for children 0-5 years old and their families/caregivers.
X-ALT-DESC;FMTTYPE=text/html:<p><span style="background-color:transparent\; color:rgb(0\, 0\, 0)\; font-family:arial\; font-size:11pt">Painting! Creating! Cooking! Games! Activities!&nbsp\;</span><span style="background-color:transparent\; color:rgb(0\, 0\, 0)\; font-family:arial\; font-size:11pt">Join us on Wonderful Wednesday for a morning of fun with old friends and new.&nbsp\; We may be doing some messy things\, so be sure to wear old clothes.</span></p>\n\n<p><span style="background-color:transparent\; color:rgb(0\, 0\, 0)\; font-family:arial\; font-size:11pt">This free program is geared for children 0-5 years old and their families/caregivers.</span></p>\n\n<div>&nbsp\;</div>\n
LOCATION:Matheson Memorial Library
UID:e.2059.11227
SEQUENCE:3
DTSTAMP:20260420T054533Z
URL:https://business.elkhornchamber.com/events/details/wonderful-wednesday-11-20-2019-11227
END:VEVENT

END:VCALENDAR
