BEGIN:VCALENDAR
VERSION:2.0
PRODID:-//ChamberMaster//Event Calendar 2.0//EN
METHOD:PUBLISH
X-PUBLISHED-TTL:P3D
REFRESH-INTERVAL:P3D
CALSCALE:GREGORIAN
BEGIN:VEVENT
DTSTART:20150306T190000Z
DTEND:20150307T220000Z
X-MICROSOFT-CDO-ALLDAYEVENT:FALSE
SUMMARY:Women's Resource Fair
DESCRIPTION:Women's Resource Fair \n\nPresents a Menu of Education & Inspiration\n\nMarch 6 & 7\, 2015\n\n\n\nLake Geneva\, Wis.- Come for the connection and education\, stay for the information and inspiration at the Women's Resource Fair\, to be hosted at the Geneva Ridge Resort\, W4240 State Road 50\, Lake Geneva\, Wis. on Friday\, March 6 from 1   7 p.m. and Saturday\, March 7 from 10 a.m.   4 p.m.    Celebrating its 11th year\, the Women's Resource Fair Walworth County will feature over 60 exhibiting practitioners\, organizations and businesses and over 15 educational lectures in the areas of Alternative Health & Wellness\, Holistic Products\, Organic Foods & Nutrition\, Green Home & Healthy Life\, Bodywork & Movement and Education & Empowerment. Presenting sponsors for this year's event include: Wisconsin Public Radio\, Mercy Health System\, Lake Geneva Country Meats and Geneva Ridge Resort. The public is invited to attend. Tickets for the event are $10\, which includes two-day access to all booths\, educational lectures and documentary viewing. Admission benefits the United Way of Walworth County.  For a complete listing of participating groups and the speaker schedule visit www.womensresourcefair.org or call (262) 215-0991 for more information.\n\n \n\n\n\nFRIDAY\, MARCH 6 - WINE TASTING & SPA NIGHT\n\nVisit the Women's Resource Fair from 5 -7 p.m. on Friday\, March 6 and get pampered! Visit a variety of booths offering spa services\, chair massage and sample skin care products all while enjoying a sample of organic wine. The Spa Night is presented by Jasmine Salon & Spa. A donation is suggested to participate\, which benefits the United Way of Walworth County. The United Way of Walworth County provides funding to 45 Walworth County non-profit agencies. For more information\, visit www.uw-wc.org.  \n\n\n\n\n\nSATURDAY\, MARCH 7 - MAIN DISHES\n\n10:30 AM:             Getting Fit with Food Author\, Shana Conradt\n\nShana Conradt is the published author of Getting Fit with Food as well as a chef\, weight loss consultant and speaker\, but most of all\, she is an outspoken advocate of education when it comes to food\, weight loss and life in general. Shana also has had the privilege of working with Kristin Steede\, a contestant on Season 7 of NBC's The Biggest Loser. \n\n \n\n12:30 PM:             Cooking Demonstration: \n\nDiscover How to Feed a Crowd without Spending a Fortune in "Half Price Gourmet"\n\nPresented by Nick Vorpagel from Lake Geneva Country Meats. Nick\, a third generation butcher shop owner\, will share his tricks on how to prepare budget priced sirloin steaks that can easily feed any size gathering. When the steaks are finished\, you'll have a steakhouse quality meal without the steakhouse price. Sampling included! \n\n \n\n2:00 PM:               Fed Up\n\nStephanie Soechtig's documentary Fed Up\, narrated by Katie Couric\, presents the case that the food industry and the government have acted together in order to change the eating habits of America in a way that has led to widespread obesity in children. For more information\, visit www.fedupmovie.com. \n\n"A wake-up call for everyone who eats."   The Huffington Post \n\n"The movie that will change the way people think about eating."   USA Today\n\n  \n\nWomen's Resource Fair\n\nWith an outstanding reputation for providing an enriching host of resources and information\, the mission of the Women's Resource Fair is to give individual practitioners\, non-profits and organizations that offer eco-friendly products\, organic foods\, alternative resources and sustainability a greater opportunity to enrich the lives of their community through the presentation of their services\, products and programs and to offer a central\, credible source for finding enrichment.\n\nFor more information please visit www.womensresourcefair.org\, or call (262) 215-0991.
X-ALT-DESC;FMTTYPE=text/html:<strong><span style="font-family: calibri\,sans-serif\;"><span style="font-size: 14pt\;">Women&rsquo\;s Resource Fair </span></span></strong><br />\n<strong><span style="font-family: calibri\,sans-serif\;"><span style="font-size: 14pt\;">Presents a Menu of Education &amp\; Inspiration</span></span></strong><br />\n<strong><span style="font-family: calibri\,sans-serif\;"><span style="font-size: 14pt\;">March 6 &amp\; 7\, 2015</span></span></strong><br />\n<br />\n<strong><span style="font-family: calibri\,sans-serif\;"><span style="font-size: 10pt\;">Lake Geneva\, Wis.-</span></span></strong> <span style="font-family: calibri\,sans-serif\;"><span style="font-size: 10pt\;">Come for the connection and education\, stay for the information and inspiration at the Women&rsquo\;s Resource Fair\, to be hosted at the Geneva Ridge Resort\, W4240 State Road 50\, Lake Geneva\, Wis. on</span></span><span style="font-family: calibri\,sans-serif\;"><span style="font-size: 10pt\;"> <strong>Friday\, March 6 from 1 &ndash\; 7 p.m. and Saturday\, March 7 from 10 a.m. &ndash\; 4 p.m. </strong>&nbsp\;&nbsp\;&nbsp\;Celebrating its 11<sup>th</sup> year\, the Women&#39\;s Resource Fair Walworth County will feature over 60 exhibiting practitioners\, organizations and businesses and over 15 educational lectures in the areas of Alternative Health &amp\; Wellness\, Holistic Products\, Organic Foods &amp\; Nutrition\, Green Home &amp\; Healthy Life\, Bodywork &amp\; Movement and Education &amp\; Empowerment. <strong>Presenting sponsors for this year&rsquo\;s event include: Wisconsin Public Radio\, Mercy Health System\, Lake Geneva Country Meats and Geneva Ridge Resort.</strong> The public is invited to attend. Tickets for the event are $10\, which includes two-day access to all booths\, educational lectures and documentary viewing. <span style="font-size: 14px\;"><span style="color: rgb(0\, 0\, 255)\;"><strong>Admission benefits the United Way of Walworth County.</strong></span></span> &nbsp\;For a complete listing of participating groups and the speaker schedule visit <a href="http://www.womensresourcefair.org/">www.womensresourcefair.org</a> or call (262) 215-0991 for more information.</span></span><br />\n&nbsp\;<br />\n<br />\n<strong><u><span style="font-family: calibri\,sans-serif\;"><span style="font-size: 10pt\;">FRIDAY\, MARCH 6 - WINE TASTING &amp\; SPA NIGHT</span></span></u></strong><br />\n<span style="font-family: calibri\,sans-serif\;"><span style="font-size: 10pt\;">Visit the Women&rsquo\;s Resource Fair from 5 -7 p.m. on Friday\, March 6 and get pampered! Visit a variety of booths offering spa services\, chair massage and sample skin care products all while enjoying a sample of organic wine. The Spa Night is presented by Jasmine Salon &amp\; Spa. A donation is suggested to participate\, which&nbsp\;<span style="color: rgb(0\, 0\, 255)\;"><strong>benefits the United Way of Walworth County.&nbsp\;</strong></span>The United Way of Walworth County provides funding to&nbsp\;45&nbsp\;Walworth County non-profit&nbsp\;agencies.</span></span>&nbsp\;<span style="font-family: calibri\,sans-serif\;"><span style="font-size: 10pt\;">For more information\, visit&nbsp\;<a href="http://www.uw-wc.org/">www.uw-wc.org</a>. &nbsp\;</span></span><br />\n<br />\n<br />\n<strong><u><span style="font-family: calibri\,sans-serif\;"><span style="font-size: 10pt\;">SATURDAY\, MARCH 7 - MAIN DISHES</span></span></u></strong><br />\n<strong><span style="font-family: calibri\,sans-serif\;"><span style="font-size: 10pt\;">10:30 AM:&nbsp\;&nbsp\;&nbsp\;&nbsp\;&nbsp\;&nbsp\;&nbsp\;&nbsp\;&nbsp\;&nbsp\;&nbsp\;&nbsp\; <em>Getting Fit with Food</em> Author\, Shana Conradt</span></span></strong><br />\n<span style="font-family: calibri\,sans-serif\;"><span style="font-size: 10pt\;">Shana Conradt is the published author of <em>Getting Fit with Food</em> as well as a chef\, weight loss consultant and speaker\, but most of all\, she is an outspoken advocate of education when it comes to food\, weight loss and life in general. Shana also has had the privilege of working with Kristin Steede\, a contestant on Season 7 of NBC&rsquo\;s <em>The Biggest Loser</em>. </span></span><br />\n&nbsp\;<br />\n<strong><span style="font-family: calibri\,sans-serif\;"><span style="font-size: 10pt\;">12:30 PM:&nbsp\;&nbsp\;&nbsp\;&nbsp\;&nbsp\;&nbsp\;&nbsp\;&nbsp\;&nbsp\;&nbsp\;&nbsp\;&nbsp\; Cooking Demonstration: </span></span></strong><br />\n<strong><span style="font-family: calibri\,sans-serif\;"><span style="font-size: 10pt\;">Discover How to Feed a Crowd without Spending a Fortune in &ldquo\;Half Price Gourmet&rdquo\;</span></span></strong><br />\n<span style="font-family: calibri\,sans-serif\;"><span style="font-size: 10pt\;">Presented by Nick Vorpagel from Lake Geneva Country Meats. Nick\, a third generation butcher shop owner\, will share his tricks on how to prepare budget priced sirloin steaks that can easily feed any size gathering. When the steaks are finished\, you&#39\;ll have a steakhouse quality meal without the steakhouse price. Sampling included! </span></span><br />\n&nbsp\;<br />\n<strong><span style="font-family: calibri\,sans-serif\;"><span style="font-size: 10pt\;">2:00 PM:<em>&nbsp\;&nbsp\;&nbsp\;&nbsp\;&nbsp\;&nbsp\;&nbsp\;&nbsp\;&nbsp\;&nbsp\;&nbsp\;&nbsp\;&nbsp\;&nbsp\; Fed Up</em></span></span></strong><br />\n<span style="font-family: calibri\,sans-serif\;"><span style="font-size: 10pt\;">Stephanie Soechtig&#39\;s documentary <em>Fed Up</em>\, narrated by Katie Couric\, presents the case that the food industry and the government have acted together in order to change the eating habits of America in a way that has led to widespread obesity in children. For more information\, visit <a href="http://www.fedupmovie.com/">www.fedupmovie.com</a>. </span></span><br />\n<span style="font-family: calibri\,sans-serif\;"><span style="font-size: 10pt\;">&ldquo\;A wake-up call for everyone who eats.&rdquo\; &ndash\; <em>The Huffington Post</em> </span></span><br />\n<span style="font-family: calibri\,sans-serif\;"><span style="font-size: 10pt\;">&ldquo\;The movie that will change the way people think about eating.&rdquo\; &ndash\; <em>USA Today</em></span></span><br />\n&nbsp\;&nbsp\;<br />\n<strong><u><span style="font-family: calibri\,sans-serif\;"><span style="font-size: 10pt\;">Women&rsquo\;s Resource Fair</span></span></u></strong><br />\n<span style="font-family: calibri\,sans-serif\;"><span style="font-size: 10pt\;">With an outstanding reputation for providing an enriching host of resources and information\, the mission of the Women&rsquo\;s Resource Fair is to give individual practitioners\, non-profits and organizations that offer eco-friendly products\, organic foods\, alternative resources and sustainability a greater opportunity to enrich the lives of their community through the presentation of their services\, products and programs and to offer a central\, credible source for finding enrichment.<br />\n<strong><span style="font-size: 14px\;"><span style="color: rgb(51\, 153\, 0)\;">For more information please visit </span><a href="http://www.womensresourcefair.org/"><span style="color: rgb(51\, 153\, 0)\;">www.womensresourcefair.org</span></a><span style="color: rgb(51\, 153\, 0)\;">\, or call (262) 215-0991.</span></span></strong></span></span><br />\n<br />\n<br />\n<br />\n<br />\n&nbsp\;
LOCATION:Geneva Ridge Resort Lake Geneva\, WI
UID:e.2059.852
SEQUENCE:3
DTSTAMP:20260425T022757Z
URL:https://business.elkhornchamber.com/events/details/women-s-resource-fair-03-06-2015-852
END:VEVENT

END:VCALENDAR
