BEGIN:VCALENDAR
VERSION:2.0
PRODID:-//ChamberMaster//Event Calendar 2.0//EN
METHOD:PUBLISH
X-PUBLISHED-TTL:P3D
REFRESH-INTERVAL:P3D
CALSCALE:GREGORIAN
BEGIN:VEVENT
DTSTART;VALUE=DATE:20170922
DTEND;VALUE=DATE:20170925
TRANSP:TRANSPARENT
X-MICROSOFT-CDO-ALLDAYEVENT:TRUE
SUMMARY:Women on Dirt
DESCRIPTION:Women on Dirt September 22-24 Park Falls\, WI \n\nGroup Lodging Included @ the Buckhorn Lodge\n\nWWW.BuckhornLodgeRetreat.com\n\n(lodging is Limited)\n\nHosted by: \n\n Barb\, Nikki & Julie\n\n\n\nPlease call with t-shirt size and $55 Due pay with cc or check by September 1st.
X-ALT-DESC;FMTTYPE=text/html:Women on Dirt September 22-24 Park Falls\, WI&nbsp\;<br />\nGroup Lodging Included @ the Buckhorn Lodge<br />\nWWW.BuckhornLodgeRetreat.com<br />\n(lodging is Limited)<br />\nHosted by:&nbsp\;<br />\n&nbsp\;Barb\, Nikki &amp\; Julie<br />\n<br />\nPlease call with t-shirt size and $55 Due pay with cc or check by September 1st.<br />\n&nbsp\;
LOCATION:Buckhorn Lodge Park Falls\, Wi
UID:e.2059.6074
SEQUENCE:3
DTSTAMP:20260422T214027Z
URL:https://business.elkhornchamber.com/events/details/women-on-dirt-6074
END:VEVENT

END:VCALENDAR
