BEGIN:VCALENDAR
VERSION:2.0
PRODID:-//ChamberMaster//Event Calendar 2.0//EN
METHOD:PUBLISH
X-PUBLISHED-TTL:P3D
REFRESH-INTERVAL:P3D
CALSCALE:GREGORIAN
BEGIN:VEVENT
DTSTART:20150325T233000Z
DTEND:20150326T003000Z
X-MICROSOFT-CDO-ALLDAYEVENT:FALSE
SUMMARY:Women & Finance: Creating Financial Indpendence
DESCRIPTION:Women & Finance Creating Financial Independence Come learn more about financial security. This seminar will help you to understand your current financial standing\, future financial needs\, and empower you to make informed financial decisions. Free workbook included.
X-ALT-DESC;FMTTYPE=text/html:Women &amp\; Finance Creating Financial Independence Come learn more about financial security. This seminar will help you to understand your current financial standing\, future financial needs\, and empower you to make informed financial decisions. Free workbook included.
LOCATION:Big Foot High School Walworth\, WI
UID:e.2059.850
SEQUENCE:3
DTSTAMP:20260425T023306Z
URL:https://business.elkhornchamber.com/events/details/women-finance-creating-financial-indpendence-03-25-2015-850
END:VEVENT

END:VCALENDAR
