BEGIN:VCALENDAR
VERSION:2.0
PRODID:-//ChamberMaster//Event Calendar 2.0//EN
METHOD:PUBLISH
X-PUBLISHED-TTL:P3D
REFRESH-INTERVAL:P3D
CALSCALE:GREGORIAN
BEGIN:VEVENT
DTSTART:20190524T230000Z
DTEND:20190525T033000Z
X-MICROSOFT-CDO-ALLDAYEVENT:FALSE
SUMMARY:Wisconsin Supper Club Dining Experience
DESCRIPTION:Old Fashioned Wisconsin Supper Club Dining Experience\n\n\nWhen: May 24th\n\nFrom: 6:00 pm - 10:30 pm\n\nJoin us for a unique evening as we pay tribute to the Old Fashioned Wisconsin Supper Club.\n\nSupper club restaurants were the hot dining trend in the mid twentieth century. They provided a place for people to spend their evenings enjoying cocktails\, home-cooked\, high-quality food and entertainment. Documentary filmmaker\, Holly DeRuyter\, hosts Lake Lawn Resort's Supper Club experience.  She presents her film\, "Old Fashioned: The Story of the Wisconsin Supper Club"\, which takes you into this unique Wisconsin institution. Lake Lawn Resort will present the ambience and flavors of a true Wisconsin Supper Club\, beginning with the signature Old Fashioned Cocktail\, traditional relish trays\, entrees\, and dessert. \n\nHolly will be accompanied by Mary Bergin\, author of Wisconsin Supper Club Cookbook.\n\nClick here to learn more about Wisconsin Supper Club history.\n\nEvent will take place in our Lake Lawn Room.  Doors & Cash Bar Open 6:00pm.  Show begins 7:00pm.  Dinner is served at 7:30 pm.  Movie begins at 8:30 pm.  Q&A to follow at 9:30 pm.\n\n$65.00 per person includes one Old Fashioned Cocktail\, dinner\, movie\, presentation\, tax\, and gratuity.
X-ALT-DESC;FMTTYPE=text/html:<div class="heading-group text-left">\n<h1 class="heading-group-header ">Old Fashioned Wisconsin Supper Club Dining Experience</h1>\n</div>\n\n<div class="event-meta"><strong>When:</strong>&nbsp\;May 24th<br />\n<strong>From:</strong> 6:00 pm - 10:30 pm</div>\n\n<p><span style="color: #000000\; font-size: 14pt\;">Join us for a unique evening as we pay tribute to the Old Fashioned Wisconsin Supper Club.</span></p>\n\n<p><span style="color: #000000\; font-size: 14pt\;">Supper club restaurants were the hot dining trend in the mid twentieth century. They provided a place for people to spend their evenings enjoying cocktails\, home-cooked\, high-quality food and entertainment. Documentary filmmaker\, Holly DeRuyter\, hosts Lake Lawn Resort&rsquo\;s Supper Club experience. &nbsp\;She presents her film\, &ldquo\;Old Fashioned: The Story of the Wisconsin Supper Club&rdquo\;\, which takes you into this unique Wisconsin institution. Lake Lawn Resort will present the ambience and flavors of a true Wisconsin Supper Club\, beginning with the signature Old Fashioned Cocktail\, traditional relish trays\, entrees\, and dessert.&nbsp\;</span></p>\n\n<p><span style="color: #000000\; font-size: 14pt\;">Holly will be accompanied by Mary Bergin\, author of<strong> <a href="https://www.facebook.com/supperclubcookbook/" style="color: #000000\;">Wisconsin Supper Club Cookbook</a>.</strong></span></p>\n\n<p><span style="color: #000000\; font-size: 14pt\;"><a href="http://www.oldfashionedthemovie.com/" style="color: #000000\;"><strong>Click here</strong> to learn more&nbsp\;about Wisconsin Supper Club history.</a></span></p>\n\n<p><span style="color: #000000\; font-size: 14pt\;">Event will take place in our Lake Lawn Room. &nbsp\;Doors &amp\; Cash Bar Open 6:00pm. &nbsp\;Show begins 7:00pm. &nbsp\;Dinner is served at 7:30 pm. &nbsp\;Movie begins at 8:30 pm. &nbsp\;Q&amp\;A to follow at 9:30 pm.</span></p>\n\n<p><span style="color: #000000\; font-size: 14pt\;">$65.00 per person includes one Old Fashioned Cocktail\, dinner\, movie\, presentation\, tax\, and gratuity.</span></p>\n
LOCATION:Location: Lake Lawn Resort 2400 E. Geneva St. Delavan\, 53115
UID:e.2059.10841
SEQUENCE:3
DTSTAMP:20260421T134639Z
URL:https://business.elkhornchamber.com/events/details/wisconsin-supper-club-dining-experience-10841
END:VEVENT

END:VCALENDAR
