BEGIN:VCALENDAR
VERSION:2.0
PRODID:-//ChamberMaster//Event Calendar 2.0//EN
METHOD:PUBLISH
X-PUBLISHED-TTL:P3D
REFRESH-INTERVAL:P3D
CALSCALE:GREGORIAN
BEGIN:VEVENT
DTSTART:20151022T233000Z
DTEND:20151023T010000Z
X-MICROSOFT-CDO-ALLDAYEVENT:FALSE
SUMMARY:Wisconsin's Most Haunted Locations with Chad Lewis
DESCRIPTION:This presentation takes the audience on a ghostly journey to some of the most haunted places in Wisconsin. It covers the entire state\, from a blood dripping cemetery in Appleton to a haunted B&B in Milwaukee. From phantom creatures prowling the woods to back roads apparitions\, no place in Wisconsin is without its own haunting!\n\nComplete with photos\, case history\, eyewitness accounts\, ghost lore\, and directions\, this unique presentation encourages you to visit these places for your own ghost story \n\nFind out where you can:\n\n	See possessed statues comes to life\n	Pick up a phantom hitchhiker\n	Get chased by hellhounds\n	Come face to face with dead gangsters\n	Spend the night in a cursed hotel\n	And many\, many more....
X-ALT-DESC;FMTTYPE=text/html:This presentation takes the audience on a ghostly journey to some of the most haunted places in Wisconsin. It covers the entire state\, from a blood dripping cemetery in Appleton to a haunted B&amp\;B in Milwaukee. From phantom creatures prowling the woods to back roads apparitions\, no place in Wisconsin is without its own haunting!<br />\nComplete with photos\, case history\, eyewitness accounts\, ghost lore\, and directions\, this unique presentation encourages you to visit these places for your own ghost story&hellip\;<br />\nFind out where you can:\n<ul>\n	<li>See possessed statues comes to life</li>\n	<li>Pick up a phantom hitchhiker</li>\n	<li>Get chased by hellhounds</li>\n	<li>Come face to face with dead gangsters</li>\n	<li>Spend the night in a cursed hotel</li>\n	<li>And many\, many more....</li>\n</ul>\n
LOCATION:Matheson Memorial Library-Community Center
UID:e.2059.1694
SEQUENCE:3
DTSTAMP:20260424T124336Z
URL:https://business.elkhornchamber.com/events/details/wisconsin-s-most-haunted-locations-with-chad-lewis-10-22-2015-1694
END:VEVENT

END:VCALENDAR
