BEGIN:VCALENDAR
VERSION:2.0
PRODID:-//ChamberMaster//Event Calendar 2.0//EN
METHOD:PUBLISH
X-PUBLISHED-TTL:P3D
REFRESH-INTERVAL:P3D
CALSCALE:GREGORIAN
BEGIN:VEVENT
DTSTART:20190308T003000Z
DTEND:20190308T020000Z
X-MICROSOFT-CDO-ALLDAYEVENT:FALSE
SUMMARY:Wisconsin Barn Stories
DESCRIPTION:Historic barns dot the Wisconsin landscape\, but do you know the stories\n\nbehind them? Join author\, historian\, and public TV presenter Tom Laughlin as he takes us through the history and legacy of Wisconsin barns and how they've shaped our state culture. Please join us for this fascinating program on these vanishing historical structures.
X-ALT-DESC;FMTTYPE=text/html:Historic barns dot the Wisconsin landscape\, but do you know the stories<br />\nbehind them? Join author\, historian\, and public TV presenter Tom Laughlin as he takes us through the history and legacy of Wisconsin barns and how they&rsquo\;ve shaped our state culture.&nbsp\;Please join us for this fascinating program on these vanishing historical structures.
LOCATION:Matheson Memorial Library
UID:e.2059.10355
SEQUENCE:3
DTSTAMP:20260421T152700Z
URL:https://business.elkhornchamber.com/events/details/wisconsin-barn-stories-10355
END:VEVENT

END:VCALENDAR
