BEGIN:VCALENDAR
VERSION:2.0
PRODID:-//ChamberMaster//Event Calendar 2.0//EN
METHOD:PUBLISH
X-PUBLISHED-TTL:P3D
REFRESH-INTERVAL:P3D
CALSCALE:GREGORIAN
BEGIN:VEVENT
DTSTART:20190112T163000Z
DTEND:20190112T173000Z
X-MICROSOFT-CDO-ALLDAYEVENT:FALSE
SUMMARY:Winter Wonderland
DESCRIPTION:Come and join Rec Connect for a morning of fun winter crafts! Making a wide variety or winter crafts and spending time with your friends-- there is no better way than that to spend your Saturday morning. To join in the fun make sure to register by December 21st or before the spots fill up since we only have 12 places available.
X-ALT-DESC;FMTTYPE=text/html:Come and join Rec Connect for a morning of fun winter crafts! Making a wide variety or winter crafts and spending time with your friends-- there is no better way than that to spend your Saturday morning. To join in the fun make sure to register by December 21st or before the spots fill up since we only have 12 places available.
LOCATION:Matheson Memorial Library
UID:e.2059.9743
SEQUENCE:3
DTSTAMP:20260421T185248Z
URL:https://business.elkhornchamber.com/events/details/winter-wonderland-9743
END:VEVENT

END:VCALENDAR
