BEGIN:VCALENDAR
VERSION:2.0
PRODID:-//ChamberMaster//Event Calendar 2.0//EN
METHOD:PUBLISH
X-PUBLISHED-TTL:P3D
REFRESH-INTERVAL:P3D
CALSCALE:GREGORIAN
BEGIN:VEVENT
DTSTART:20180321T150000Z
DTEND:20180321T160000Z
X-MICROSOFT-CDO-ALLDAYEVENT:FALSE
SUMMARY:Winter Wigglers
DESCRIPTION:Does winter make you wiggly? Come to the library! We'll be scaring away our winter blues with activities for all ages.\n\nToday: OBSTACLE COURSE!
X-ALT-DESC;FMTTYPE=text/html:<p style="text-align:center">Does winter make you wiggly? Come to the library! We&#39\;ll be scaring away our winter blues with activities for all ages.</p>\n\n<p style="text-align:center">Today: OBSTACLE COURSE!</p>\n
LOCATION:Matheson Memorial Library
UID:e.2059.7576
SEQUENCE:3
DTSTAMP:20260422T114541Z
URL:https://business.elkhornchamber.com/events/details/winter-wigglers-03-21-2018-7576
END:VEVENT

END:VCALENDAR
