BEGIN:VCALENDAR
VERSION:2.0
PRODID:-//ChamberMaster//Event Calendar 2.0//EN
METHOD:PUBLISH
X-PUBLISHED-TTL:P3D
REFRESH-INTERVAL:P3D
CALSCALE:GREGORIAN
BEGIN:VEVENT
DTSTART:20190313T150000Z
DTEND:20190313T160000Z
X-MICROSOFT-CDO-ALLDAYEVENT:FALSE
SUMMARY:Winter Wigglers
DESCRIPTION:Does winter make you wiggly?\n\nCome to the library! We'll be scaring away our winter blues with activities for all ages.\n\nToday: Yoga with Josie Johnson
X-ALT-DESC;FMTTYPE=text/html:<div style="text-align: center\;"><span style="font-size:14px"><span style="color:rgb(0\, 0\, 0)\; font-family:arial">Does winter make you wiggly?<br />\nCome to the library! We&#39\;ll be scaring away our winter blues with activities for all ages.</span></span></div>\n\n<div style="text-align: center\;"><span style="font-size:14px"><span style="color:rgb(0\, 0\, 0)\; font-family:arial">Today: Yoga with Josie Johnson</span></span></div>\n
LOCATION:Matheson Memorial Library
UID:e.2059.10366
SEQUENCE:3
DTSTAMP:20260421T152700Z
URL:https://business.elkhornchamber.com/events/details/winter-wigglers-03-13-2018-10366
END:VEVENT

END:VCALENDAR
