BEGIN:VCALENDAR
VERSION:2.0
PRODID:-//ChamberMaster//Event Calendar 2.0//EN
METHOD:PUBLISH
X-PUBLISHED-TTL:P3D
REFRESH-INTERVAL:P3D
CALSCALE:GREGORIAN
BEGIN:VEVENT
DTSTART:20180131T160000Z
DTEND:20180131T170000Z
X-MICROSOFT-CDO-ALLDAYEVENT:FALSE
SUMMARY:Winter Wigglers
DESCRIPTION:Does winter make you wiggly? Come to the library! We'll be scaring away our winter blues with activities for all ages.\n\nTODAY: BLOCK PARTY!
X-ALT-DESC;FMTTYPE=text/html:<span style="color:rgb(0\, 0\, 0)\; font-family:arial\; font-size:12px">Does winter make you wiggly? Come to the library! We&#39\;ll be scaring away our winter blues with activities for all ages.<br />\nTODAY: BLOCK PARTY!</span>
LOCATION:Matheson Memorial Library
UID:e.2059.7416
SEQUENCE:3
DTSTAMP:20260422T150147Z
URL:https://business.elkhornchamber.com/events/details/winter-wigglers-01-31-2018-7416
END:VEVENT

END:VCALENDAR
