BEGIN:VCALENDAR
VERSION:2.0
PRODID:-//ChamberMaster//Event Calendar 2.0//EN
METHOD:PUBLISH
X-PUBLISHED-TTL:P3D
REFRESH-INTERVAL:P3D
CALSCALE:GREGORIAN
BEGIN:VEVENT
DTSTART:20150723T220000Z
DTEND:20150724T000000Z
X-MICROSOFT-CDO-ALLDAYEVENT:FALSE
SUMMARY:Wine and Walk
DESCRIPTION:Holton Manor presents a Wine and Walk where you can taste wine\, enjoy tasty appetizers and tour their beautiful historic mansion. Proceeds from this event benefit the restoration of the historic Frank Holton mansion located on the grounds of Holton Manor. As well as preserving a piece of Elkhorn's history\, the renovated mansion will provide a place for pediatric therapy\, home health services\, support group meetings and space for community events.
X-ALT-DESC;FMTTYPE=text/html:Holton Manor presents a Wine and Walk where you can taste wine\, enjoy tasty appetizers and tour their beautiful historic mansion. Proceeds from this event benefit the restoration of the historic Frank Holton mansion located on the grounds of Holton Manor. As well as preserving a piece of Elkhorn&#39\;s history\, the renovated mansion will provide a place for pediatric therapy\, home health services\, support group meetings and space for community events.
LOCATION:Holton Manor N. Church Street\, Elkhorn
UID:e.2059.1625
SEQUENCE:3
DTSTAMP:20260424T175016Z
URL:https://business.elkhornchamber.com/events/details/wine-and-walk-07-23-2015-1625
END:VEVENT

END:VCALENDAR
