BEGIN:VCALENDAR
VERSION:2.0
PRODID:-//ChamberMaster//Event Calendar 2.0//EN
METHOD:PUBLISH
X-PUBLISHED-TTL:P3D
REFRESH-INTERVAL:P3D
CALSCALE:GREGORIAN
BEGIN:VEVENT
DTSTART;VALUE=DATE:20180922
DTEND;VALUE=DATE:20180924
TRANSP:TRANSPARENT
X-MICROSOFT-CDO-ALLDAYEVENT:TRUE
SUMMARY:WI Horse Alliance Horse Show
DESCRIPTION:WI Horse Alliance Horse Show comes to the Walworth County Fairgrounds.
X-ALT-DESC;FMTTYPE=text/html:WI Horse Alliance Horse Show comes to the Walworth County Fairgrounds.&nbsp\;
LOCATION:Walworth County Fairgrounds 411 E. Court St Elkhorn\, Wi
UID:e.2059.8914
SEQUENCE:3
DTSTAMP:20260422T021423Z
URL:https://business.elkhornchamber.com/events/details/wi-horse-alliance-horse-show-8914
END:VEVENT

END:VCALENDAR
