BEGIN:VCALENDAR
VERSION:2.0
PRODID:-//ChamberMaster//Event Calendar 2.0//EN
METHOD:PUBLISH
X-PUBLISHED-TTL:P3D
REFRESH-INTERVAL:P3D
CALSCALE:GREGORIAN
BEGIN:VEVENT
DTSTART:20160924T150000Z
DTEND:20160924T150000Z
X-MICROSOFT-CDO-ALLDAYEVENT:FALSE
SUMMARY:Whisker Walk
DESCRIPTION:GREAT NEWS!! We have moved the location of the Whisker Walk! This years location will be at the LAKELAND ANIMAL SHELTER!!! We are very excited to have Phase 1 of the Lakeland Animal Shelter Adoption Center open and couldn't wait another year to move the Whisker Walk to the new facility! Watch for more details!! \n\nFetch your sneakers and grab a furry friend for a scenic walk. Whisker Walk is one of our largest fundraising events. Donations raised help us care for over 2\,500 animals that pass through the shelter every year. (All four-legged participants must be on a leash please.) Registration starts at 10am and the walk starts at 11:30am.\n\nJOIN US!\n\n  Raise money by collecting Whisker Walk pledges from family\, friends\,neighbors\, and co-workers\n\n  Your donations help us care for the many homeless animals of Walworth County and beyond\n\n  Collect the most money (individually or as a team) and win great prizes
X-ALT-DESC;FMTTYPE=text/html:<span style="font-size:16px\;"><span style="font-family: georgia\,serif\;"><strong>GREAT NEWS</strong>!! We have moved the location of the Whisker Walk! This years location will be at the <u><strong>LAKELAND ANIMAL SHELTER</strong></u>!!! We are very excited to have Phase 1 of the Lakeland Animal Shelter Adoption Center open and couldn&#39\;t wait another year to move the Whisker Walk to the new facility! Watch for more details!! </span></span>\n\n<p><span style="font-size:16px\;"><span style="font-family: georgia\,serif\;">Fetch your sneakers and grab a furry friend for a scenic walk. Whisker Walk is one of our largest fundraising events. Donations raised help us care for over 2\,500 animals that pass through the shelter every year. (All four-legged participants must be on a leash please.) Registration starts at 10am and the walk starts at 11:30am.</span></span></p>\n\n<p><span style="font-size:16px\;"><span style="font-family: georgia\,serif\;">JOIN US!</span></span></p>\n\n<p><span style="font-size:16px\;"><span style="font-family: georgia\,serif\;">&bull\; Raise money by collecting Whisker Walk pledges from family\, friends\,neighbors\, and co-workers<br />\n&bull\; Your donations help us care for the many homeless animals of Walworth County and beyond<br />\n&bull\; Collect the most money (individually or as a team) and win great prizes</span></span></p>\n
LOCATION:Lakeland Animal Shelter 3551 State Road 67\, Delavan\, WI
UID:e.2059.4536
SEQUENCE:3
DTSTAMP:20260423T184924Z
URL:https://business.elkhornchamber.com/events/details/whisker-walk-4536
END:VEVENT

END:VCALENDAR
