BEGIN:VCALENDAR
VERSION:2.0
PRODID:-//ChamberMaster//Event Calendar 2.0//EN
METHOD:PUBLISH
X-PUBLISHED-TTL:P3D
REFRESH-INTERVAL:P3D
CALSCALE:GREGORIAN
BEGIN:VEVENT
DTSTART;VALUE=DATE:20200104
DTEND;VALUE=DATE:20200105
TRANSP:TRANSPARENT
X-MICROSOFT-CDO-ALLDAYEVENT:TRUE
SUMMARY:Whiffle Ball Tournament
DESCRIPTION:Elkhorn Recreation Department is hosting Whiffle ball tournament January 4th at the Elkhorn High School Agility Center. Register your team before Dec.6th for $60
X-ALT-DESC;FMTTYPE=text/html:Elkhorn Recreation Department is hosting Whiffle ball tournament January 4th at the Elkhorn High School Agility Center. Register your team before Dec.6th for $60&nbsp\;
LOCATION:Elkhorn High School Agility Center
UID:e.2059.11183
SEQUENCE:3
DTSTAMP:20260419T220203Z
URL:https://business.elkhornchamber.com/events/details/whiffle-ball-tournament-11183
END:VEVENT

END:VCALENDAR
