BEGIN:VCALENDAR
VERSION:2.0
PRODID:-//ChamberMaster//Event Calendar 2.0//EN
METHOD:PUBLISH
X-PUBLISHED-TTL:P3D
REFRESH-INTERVAL:P3D
CALSCALE:GREGORIAN
BEGIN:VEVENT
DTSTART:20160409T150000Z
DTEND:20160409T163000Z
X-MICROSOFT-CDO-ALLDAYEVENT:FALSE
SUMMARY:What You Can Do For Pollinators - Creating a Pollinator-Friendly Garden Habitat
DESCRIPTION:Join us with author Heather Holm teaches about the types of native pollinators that visit our gardens and how we can foster all parts of their life cycles\, including providing food\, water and nesting habitat. The top native plant species for pollinators will also be discussed. Heather?s book is not only a reference\, but a guide for gardeners and nature-lovers written in a clear\, engaging and accessible style. A reception will follow this presentation. A limited quantity of free native plant seed to attract pollinators will be offered as door prizes. Books will be available for sale and signing.
X-ALT-DESC;FMTTYPE=text/html:Join us with author Heather Holm teaches about the types of native pollinators that visit our gardens and how we can foster all parts of their life cycles\, including providing food\, water and nesting habitat. The top native plant species for pollinators will also be discussed. Heather?s book is not only a reference\, but a guide for gardeners and nature-lovers written in a clear\, engaging and accessible style. A reception will follow this presentation. A limited quantity of free native plant seed to attract pollinators will be offered as door prizes. Books will be available for sale and signing.
LOCATION:Mukwonago Community Library
UID:e.2059.3403
SEQUENCE:3
DTSTAMP:20260424T030834Z
URL:https://business.elkhornchamber.com/events/details/what-you-can-do-for-pollinators-creating-a-pollinator-friendly-garden-habitat-04-09-2016-3403
END:VEVENT

END:VCALENDAR
