BEGIN:VCALENDAR
VERSION:2.0
PRODID:-//ChamberMaster//Event Calendar 2.0//EN
METHOD:PUBLISH
X-PUBLISHED-TTL:P3D
REFRESH-INTERVAL:P3D
CALSCALE:GREGORIAN
BEGIN:VEVENT
DTSTART:20170128T160000Z
DTEND:20170128T190000Z
X-MICROSOFT-CDO-ALLDAYEVENT:FALSE
SUMMARY:What's It Worth? With Mark Moran
DESCRIPTION:Antiques expert and author Mark Moran returns to the Matheson Memorial Library with a fun new appraisal event. He will appraise a wide variety of items\, giving information about its origin and use\, as well as its value. Cost is $10 per item: please register each item in advance by visiting the Matheson Memorial Library and making advance payment in cash. For a list of excluded items\, please contact the library at (262) 723-2678. In addition\, Mr. Moran can make house calls for large or fragile items when he's in the area. You can make arrangements directly by calling (715) 281-5060 or emailing at moranm1953@gmail.comAntiques expert and author Mark Moran returns to the Matheson Memorial Library with a fun new appraisal event. He will appraise a wide variety of items\, giving information about its origin and use\, as well as its value. Cost is $10 per item: please register each item in advance by visiting the Matheson Memorial Library and making advance payment in cash. For a list of excluded items\, please contact the library at (262) 723-2678. In addition\, Mr. Moran can make house calls for large or fragile items when he's in the area. You can make arrangements directly by calling (715) 281-5060 or emailing at moranm1953@gmail.com
X-ALT-DESC;FMTTYPE=text/html:<p><span style="font-family:courier new"><span style="font-size:12.0pt">Antiques expert and author Mark Moran returns to the Matheson Memorial Library with a fun new appraisal event. He will appraise a wide variety of items\, giving information about its origin and use\, as well as its value. Cost is $10 per item: please register each item in advance by visiting the Matheson Memorial Library and making advance payment in cash. For a list of excluded items\, please contact the library at (262) 723-2678. In addition\, Mr. Moran can make house calls for large or fragile items when he&rsquo\;s in the area. You can make arrangements directly by calling (715) 281-5060 or emailing at moranm1953@gmail.com</span></span><span style="font-size:12pt"><span style="font-family:courier new">Antiques expert and author Mark Moran returns to the Matheson Memorial Library with a fun new appraisal event. He will appraise a wide variety of items\, giving information about its origin and use\, as well as its value. Cost is $10 per item: please register each item in advance by visiting the Matheson Memorial Library and making advance payment in cash. For a list of excluded items\, please contact the library at (262) 723-2678. In addition\, Mr. Moran can make house calls for large or fragile items when he&rsquo\;s in the area. You can make arrangements directly by calling (715) 281-5060 or emailing at moranm1953@gmail.com</span></span></p>\n
LOCATION:
UID:e.2059.4616
SEQUENCE:3
DTSTAMP:20260423T123345Z
URL:https://business.elkhornchamber.com/events/details/what-s-it-worth-with-mark-moran-4616
END:VEVENT

END:VCALENDAR
