BEGIN:VCALENDAR
VERSION:2.0
PRODID:-//ChamberMaster//Event Calendar 2.0//EN
METHOD:PUBLISH
X-PUBLISHED-TTL:P3D
REFRESH-INTERVAL:P3D
CALSCALE:GREGORIAN
BEGIN:VEVENT
DTSTART:20180912T133000Z
DTEND:20180912T163000Z
X-MICROSOFT-CDO-ALLDAYEVENT:FALSE
SUMMARY:Wednesday Men's Golf League - Evergreen Country Club
DESCRIPTION:League activities are every Wednesday morning starting May 2nd\n\nTee times are a shotgun format at 8:30am\n\nMay 2 through September 13\n\nNo annual fee\, pay $5 when you play to cover team & closest to the pin events\n\n \n\nWednesday Morning League Contact: Mike Hurlburt_Tngr84@gmail.com
X-ALT-DESC;FMTTYPE=text/html:<p class="font_8" style="margin: 0px\; padding: 0px\; border: 0px\; outline: 0px\; vertical-align: baseline\; background: 0px 0px\; font-variant-numeric: normal\; font-variant-east-asian: normal\; font-stretch: normal\; font-size: 15px\; line-height: normal\; font-family: din-next-w01-light\, din-next-w02-light\, din-next-w10-light\, sans-serif\; color: rgb(96\, 94\, 94)\; pointer-events: auto\; text-align: center\;">League activities are every Wednesday morning starting May 2nd<br />\nTee times are a shotgun format at 8:30am<br />\nMay 2 through September 13<br />\nNo annual fee\, pay $5 when you play to cover team &amp\; closest to the pin events</p>\n\n<p class="font_8" style="margin: 0px\; padding: 0px\; border: 0px\; outline: 0px\; vertical-align: baseline\; background: 0px 0px\; font-variant-numeric: normal\; font-variant-east-asian: normal\; font-stretch: normal\; font-size: 15px\; line-height: normal\; font-family: din-next-w01-light\, din-next-w02-light\, din-next-w10-light\, sans-serif\; color: rgb(96\, 94\, 94)\; pointer-events: auto\; text-align: center\;"><span class="wixGuard" style="margin: 0px\; padding: 0px\; border: 0px\; outline: 0px\; vertical-align: baseline\; background: 0px 0px\;">&#8203\;</span></p>\n\n<p class="font_8" style="margin: 0px\; padding: 0px\; border: 0px\; outline: 0px\; vertical-align: baseline\; background: 0px 0px\; font-variant-numeric: normal\; font-variant-east-asian: normal\; font-stretch: normal\; font-size: 15px\; line-height: normal\; font-family: din-next-w01-light\, din-next-w02-light\, din-next-w10-light\, sans-serif\; color: rgb(96\, 94\, 94)\; pointer-events: auto\; text-align: center\;"><a data-content="Tngr84@gmail.com" data-type="mail" href="mailto:Tngr84@gmail.com" style="margin: 0px\; padding: 0px\; border: 0px\; outline: 0px\; vertical-align: baseline\; background: 0px 0px\; cursor: pointer\; text-decoration-line: none\; color: inherit\;" target="_self">Wednesday Morning League Contact: Mike Hurlburt</a>_Tngr84@gmail.com</p>\n
LOCATION:Evergreen Country Club\, N6246 Hwy 12/67\, Elkhorn WI
UID:e.2059.9194
SEQUENCE:3
DTSTAMP:20260422T021709Z
URL:https://business.elkhornchamber.com/events/details/wednesday-men-s-golf-league-evergreen-country-club-09-12-2018-9194
END:VEVENT

END:VCALENDAR
