BEGIN:VCALENDAR
VERSION:2.0
PRODID:-//ChamberMaster//Event Calendar 2.0//EN
METHOD:PUBLISH
X-PUBLISHED-TTL:P3D
REFRESH-INTERVAL:P3D
CALSCALE:GREGORIAN
BEGIN:VEVENT
DTSTART;VALUE=DATE:20170511
DTEND;VALUE=DATE:20170512
TRANSP:TRANSPARENT
X-MICROSOFT-CDO-ALLDAYEVENT:TRUE
SUMMARY:Webster House/School Tour
DESCRIPTION:Tours Start today
X-ALT-DESC;FMTTYPE=text/html:Tours Start today
LOCATION:Walworth County Historical Society 210 S. Washington Street Elkhorn\, WI 53121
UID:e.2059.4744
SEQUENCE:3
DTSTAMP:20260423T060241Z
URL:https://business.elkhornchamber.com/events/details/webster-house-school-tour-4744
END:VEVENT

END:VCALENDAR
