BEGIN:VCALENDAR
VERSION:2.0
PRODID:-//ChamberMaster//Event Calendar 2.0//EN
METHOD:PUBLISH
X-PUBLISHED-TTL:P3D
REFRESH-INTERVAL:P3D
CALSCALE:GREGORIAN
BEGIN:VEVENT
DTSTART:20181017T150000Z
DTEND:20181017T160000Z
X-MICROSOFT-CDO-ALLDAYEVENT:FALSE
SUMMARY:We Explore Preschool Adventures
DESCRIPTION:This program is geared for 3 and 4 year olds. We will have stories\, rhymes\, projects\, and special themes.
X-ALT-DESC;FMTTYPE=text/html:<span style="color:rgb(0\, 0\, 0)\; font-family:arial\; font-size:14.6667px">This program is geared for 3 and 4 year olds. We will have stories\, rhymes\, projects\, and special themes.</span>
LOCATION:Matheson Memorial Library
UID:e.2059.9495
SEQUENCE:3
DTSTAMP:20260422T020632Z
URL:https://business.elkhornchamber.com/events/details/we-explore-preschool-adventures-10-17-2018-9495
END:VEVENT

END:VCALENDAR
