BEGIN:VCALENDAR
VERSION:2.0
PRODID:-//ChamberMaster//Event Calendar 2.0//EN
METHOD:PUBLISH
X-PUBLISHED-TTL:P3D
REFRESH-INTERVAL:P3D
CALSCALE:GREGORIAN
BEGIN:VEVENT
DTSTART:20180713T150000Z
DTEND:20180713T160000Z
X-MICROSOFT-CDO-ALLDAYEVENT:FALSE
SUMMARY:We Explore Favorite Artist -- Denise Fleming
DESCRIPTION:This special story time series introduces great children's illustrators and authors to young children. You will be able to try out lots of fun and interesting art techniques\, styles\, and materials\, as well as enjoy story time and snacks.  All ages welcome.
X-ALT-DESC;FMTTYPE=text/html:<span style="color:rgb(0\, 0\, 0)\; font-family:arial\; font-size:14.6667px">This special story time series introduces great children&#39\;s illustrators and authors to young children. You will be able to try out lots of fun and interesting art techniques\, styles\, and materials\, as well as enjoy story time and snacks. &nbsp\;All ages welcome.</span>
LOCATION:Matheson Memorial Library
UID:e.2059.9033
SEQUENCE:3
DTSTAMP:20260422T071637Z
URL:https://business.elkhornchamber.com/events/details/we-explore-favorite-artist-denise-fleming-07-13-2018-9033
END:VEVENT

END:VCALENDAR
