BEGIN:VCALENDAR
VERSION:2.0
PRODID:-//ChamberMaster//Event Calendar 2.0//EN
METHOD:PUBLISH
X-PUBLISHED-TTL:P3D
REFRESH-INTERVAL:P3D
CALSCALE:GREGORIAN
BEGIN:VEVENT
DTSTART:20190621T183000Z
DTEND:20190621T193000Z
X-MICROSOFT-CDO-ALLDAYEVENT:FALSE
SUMMARY:We Explore Art
DESCRIPTION:This special storytime series introduces great children's illustrators and authors. Kids will have the opportunity to try out at least two different art techniques as well as enjoy storytime and snacks.\n\nThis program series is ideal for toddlers with short attention spans\, homeschoolers exploring art education\, and kids of all ages and abilities who enjoy creating art and listening to stories.\n\nToday: Katherine Tillotson \n\nExplore watercolors and collage with this artist who employs a wide range of styles.
X-ALT-DESC;FMTTYPE=text/html:<p style="text-align:center"><span style="background-color:transparent\; font-family:arial\; font-size:11pt">This special storytime series introduces great children&#39\;s illustrators and authors. Kids will have the opportunity to try out at least two different art techniques as well as enjoy storytime and snacks.</span></p>\n\n<p style="text-align:center"><span style="background-color:transparent\; font-family:arial\; font-size:11pt">This program series is ideal for toddlers with short attention spans\, homeschoolers exploring art education\, and kids of all ages and abilities who enjoy creating art and listening to stories.</span></p>\n\n<p style="text-align:center"><span style="background-color:transparent\; font-family:arial\; font-size:11pt"><strong>Today:&nbsp\;</strong></span><strong>Katherine Tillotson&nbsp\;</strong><br />\n<strong><span style="background-color:transparent\; font-family:arial\; font-size:11pt">Explore watercolors and collage with this artist who employs a wide range of styles.</span></strong></p>\n\n<div>&nbsp\;</div>\n
LOCATION:Matheson Memorial Library
UID:e.2059.10934
SEQUENCE:3
DTSTAMP:20260421T102502Z
URL:https://business.elkhornchamber.com/events/details/we-explore-art-06-21-2019-10934
END:VEVENT

END:VCALENDAR
