BEGIN:VCALENDAR
VERSION:2.0
PRODID:-//ChamberMaster//Event Calendar 2.0//EN
METHOD:PUBLISH
X-PUBLISHED-TTL:P3D
REFRESH-INTERVAL:P3D
CALSCALE:GREGORIAN
BEGIN:VEVENT
DTSTART:20150917T160000Z
DTEND:20150918T010000Z
X-MICROSOFT-CDO-ALLDAYEVENT:FALSE
SUMMARY:WCVB Golf Outing at Hawk's View Golf Club
DESCRIPTION:Everyone is invited for a day of fun at Hawk's View Golf Club! - 18 Holes - Green Fees - Cart - Dinner Buffet - Goodie Bags for each golfer - Tournament Prizes - Raffle & Silent Auction - Golf Ball Hunt - Free use of driving range - Putting clinic with Hawk's View's Golf Pro - "Rent the Pro" - use the Pro's drive instead of your own. - Hole in One Contest - WIN A CAR!! Sponsored by Kunes Country Auto Group - Delavan Only $75 per person and includes dinner. Register online at www.visitwalworthcounty.com/golf-outing.cfm
X-ALT-DESC;FMTTYPE=text/html:Everyone is invited for a day of fun at Hawk's View Golf Club! - 18 Holes - Green Fees - Cart - Dinner Buffet - Goodie Bags for each golfer - Tournament Prizes - Raffle &amp\; Silent Auction - Golf Ball Hunt - Free use of driving range - Putting clinic with Hawk's View's Golf Pro - "Rent the Pro" - use the Pro's drive instead of your own. - Hole in One Contest - WIN A CAR!! Sponsored by Kunes Country Auto Group - Delavan Only $75 per person and includes dinner. Register online at www.visitwalworthcounty.com/golf-outing.cfm
LOCATION:Hawk's View Golf Club 7377 Krueger Rd.\, Lake Geneva
UID:e.2059.1695
SEQUENCE:3
DTSTAMP:20260424T141828Z
URL:https://business.elkhornchamber.com/events/details/wcvb-golf-outing-at-hawk-s-view-golf-club-09-17-2015-1695
END:VEVENT

END:VCALENDAR
