BEGIN:VCALENDAR
VERSION:2.0
PRODID:-//ChamberMaster//Event Calendar 2.0//EN
METHOD:PUBLISH
X-PUBLISHED-TTL:P3D
REFRESH-INTERVAL:P3D
CALSCALE:GREGORIAN
BEGIN:VEVENT
DTSTART:20190403T130000Z
DTEND:20190403T180000Z
X-MICROSOFT-CDO-ALLDAYEVENT:FALSE
SUMMARY:WCEC Alternative High School Blood Drive
DESCRIPTION:The need is constant.  The gratification is instant.  Give blood. \n\nWalk-ins welcome to the WCEC Alternative High School blood drive.
X-ALT-DESC;FMTTYPE=text/html:The need is constant.&nbsp\; The gratification is instant.&nbsp\; Give blood.&nbsp\;<br />\nWalk-ins welcome to the WCEC Alternative High School blood drive.&nbsp\;
LOCATION:WCEC Alternative High School Elkhorn Gateway Campus 400 Hwy H Elkhorn\, WI West Building Room 2 & 4
UID:e.2059.10680
SEQUENCE:3
DTSTAMP:20260421T134802Z
URL:https://business.elkhornchamber.com/events/details/wcec-alternative-high-school-blood-drive-10680
END:VEVENT

END:VCALENDAR
