BEGIN:VCALENDAR
VERSION:2.0
PRODID:-//ChamberMaster//Event Calendar 2.0//EN
METHOD:PUBLISH
X-PUBLISHED-TTL:P3D
REFRESH-INTERVAL:P3D
CALSCALE:GREGORIAN
BEGIN:VEVENT
DTSTART:20190208T220000Z
DTEND:20190209T000000Z
X-MICROSOFT-CDO-ALLDAYEVENT:FALSE
SUMMARY:Warm Hearts Day: An Owl Diaries Get-together
DESCRIPTION:We'll be celebrating our favorite feathered friends by sewing colorful softies and other crafts.\n\nAll ages and abilities welcome\, but please make sure small children are supervised as there will be needles and other sewing tools present.
X-ALT-DESC;FMTTYPE=text/html:<p style="text-align:center"><span style="background-color:transparent\; font-family:arial\; font-size:11pt">We&rsquo\;ll be celebrating our favorite feathered friends by sewing colorful softies and other crafts.</span></p>\n\n<p style="text-align:center"><span style="background-color:transparent\; font-family:arial\; font-size:11pt">All ages and abilities welcome\, but please make sure small children are supervised as there will be needles and other sewing tools present.</span></p>\n\n<div>&nbsp\;</div>\n
LOCATION:Matheson Memorial Library
UID:e.2059.10249
SEQUENCE:3
DTSTAMP:20260421T185900Z
URL:https://business.elkhornchamber.com/events/details/warm-hearts-day-an-owl-diaries-get-together-10249
END:VEVENT

END:VCALENDAR
