BEGIN:VCALENDAR
VERSION:2.0
PRODID:-//ChamberMaster//Event Calendar 2.0//EN
METHOD:PUBLISH
X-PUBLISHED-TTL:P3D
REFRESH-INTERVAL:P3D
CALSCALE:GREGORIAN
BEGIN:VEVENT
DTSTART:20200117T003000Z
DTEND:20200117T013000Z
X-MICROSOFT-CDO-ALLDAYEVENT:FALSE
SUMMARY:Walworth County Toastmasters Meeting
DESCRIPTION:Toastmasters is an international organization in which you can learn and practice communication\, leadership and work on building confidence in a supportive and encouraging environment at your own pace! We meet on the 1st and 3rd Thursday of each month.
X-ALT-DESC;FMTTYPE=text/html:Toastmasters is an international organization in which you can learn and practice communication\, leadership and work on building confidence in a supportive and encouraging environment at your own pace! We meet on the 1st and 3rd Thursday of each month.
LOCATION:VIP Services 811 East Geneva St Elkhorn\, WI 53121
UID:e.2059.11383
SEQUENCE:3
DTSTAMP:20260419T182306Z
URL:https://business.elkhornchamber.com/events/details/walworth-county-toastmasters-meeting-01-16-2020-11383
END:VEVENT

END:VCALENDAR
