BEGIN:VCALENDAR
VERSION:2.0
PRODID:-//ChamberMaster//Event Calendar 2.0//EN
METHOD:PUBLISH
X-PUBLISHED-TTL:P3D
REFRESH-INTERVAL:P3D
CALSCALE:GREGORIAN
BEGIN:VEVENT
DTSTART:20180424T173000Z
DTEND:20180424T230000Z
X-MICROSOFT-CDO-ALLDAYEVENT:FALSE
SUMMARY:Walworth County Regional Business Expo & Career Fair
DESCRIPTION:Grand Geneva Forum\n\n \n\nBusiness Expo & Career Fair - 12:30 PM-3:30 PM\n\n"Expo on Tap"- 3:30 pm - 6:00 pm\n\n \n\nDelavan-Delavan Lake Area Chamber of Commerce Members take advantage of the $100 DISCOUNT \n\nUSE CODE: WC100 in the online Checkout\n\n \n\n \n\n**Special Presentation at 5:00 PM from Discover Wisconsin on the new "On and Off the Beaten Path" Episode filmed in the Lake Geneva Region!**\n\n \n\n \n\nThe Walworth County Regional Business EXPO and Career Fair is the ideal opportunity to network\, build new business relationships\, promote your products and services. Up to 70 exhibitors will be on display to showcase their products\, meet decision makers\, and reconnect with past customers and clients. Attendees can learn about job opportunities\, leading products and services\, and the latest best business practices. Throughout the expo\, we will have free professional head-shots\, raffle prizes\, 10-15 minute Business Learning Segments (ex: TED Talks) in new business trends\, tips\, training's\, free consultations\, free workshop or tutorials etc. If you are serious about growing or starting your business or expanding your career\, the Walworth County Regional Business Expo and Career Fair is a "MUST ATTEND" event for you.\n\nWHAT IS THE COST TO ATTEND?\n\n \n\n\n	There is a $5.00 Admission Fee\n\n\n \n\nWHY ATTEND?\n\n \n\n\n	Network with businesses\, entrepreneurs & start-ups\n	FREE professional headshots provided by Ideal Impressions Photography\n	Attend and learn about new business trends/tips\, workshops & seminars to help your business grow\n	Fast-paced speed-networking sessions to make new contacts quickly\n	Learn about new cutting-edge products \, services and special offers that will only be offered at the Business EXPO. \n	Establish hundreds of new & valuable contacts\n	Interact with the movers and shakers of your industry.\n	Leave the show with hundreds of qualified sales leads \n\n\n \n\nInterested in a new job or career? \n\nWalworth County has a lot of great companies and career opportunities.\n\nAccording to America's Health Rankings\, the underemployment rate is 8% compared to the unemployment rate of 2.7%. Come to the expo to find a better job. Exhibitors will be able to talk to you about immediate openings as well as career options.\n\n \n\nWHO CAN ATTEND?\n\n \n\n\n	Anyone can attend a Business Expo. We encourage anyone that currently operates/owns a business or anyone that works for a business to attend.\n	If you don't currently own a business or work for a business\, that's okay too! Business Expo's are a perfect place for you to come learn how to start & grow your own business.\n	Whether you are already an established business\, a start-up\, a Fortune 100 or anything in between\, if you care about small business\, we want to see you at Small Business Expo.
X-ALT-DESC;FMTTYPE=text/html:<div align="center" style="text-align: center\;"><span style="color: rgb(41\, 75\, 147)\; font-size: 22px\; font-weight: bold\;">Grand Geneva Forum</span></div>\n\n<div align="center" style="text-align: center\;">&nbsp\;</div>\n\n<div align="center" style="text-align: center\;"><span style="color: rgb(41\, 75\, 147)\; font-size: 22px\; font-weight: bold\;">Business Expo &amp\; Career Fair - 12:30 PM-3:30 PM</span></div>\n\n<div align="center" style="text-align: center\;"><span style="color: rgb(41\, 75\, 147)\; font-family: Arial\,Verdana\,Helvetica\,sans-serif\; font-size: 22px\;">&quot\;Expo on Tap&quot\;- 3:30 pm - 6:00 pm</span></div>\n\n<div align="center" style="text-align: center\;">&nbsp\;</div>\n\n<div align="center" style="text-align: center\;"><span style="color: rgb(41\, 75\, 147)\; font-family: Arial\,Verdana\,Helvetica\,sans-serif\; font-size: 22px\; font-style: normal\; font-weight: bold\; text-decoration: none\;">Delavan-Delavan Lake Area Chamber of Commerce </span><span style="color: rgb(41\, 75\, 147)\; font-family: Arial\,Verdana\,Helvetica\,sans-serif\; font-size: 22px\; font-style: normal\; text-decoration: none\;">Members</span><span style="color: rgb(41\, 75\, 147)\; font-family: Arial\,Verdana\,Helvetica\,sans-serif\; font-size: 22px\;"> take advantage of the $100 DISCOUNT </span></div>\n\n<div align="center" style="text-align: center\;"><span style="color: rgb(41\, 75\, 147)\; font-family: Arial\,Verdana\,Helvetica\,sans-serif\; font-size: 22px\;">USE CODE: </span><span style="color: rgb(41\, 75\, 147)\; font-family: Arial\,Verdana\,Helvetica\,sans-serif\; font-size: 22px\; font-weight: bold\;">WC100</span><span style="color: rgb(41\, 75\, 147)\; font-family: Arial\,Verdana\,Helvetica\,sans-serif\; font-size: 22px\;"> in the online Checkout</span></div>\n\n<div align="center" style="text-align: center\;">&nbsp\;</div>\n\n<div>&nbsp\;</div>\n\n<div align="center" style="text-align: center\;"><span style="color: rgb(41\, 75\, 147)\; font-size: 20px\; font-weight: bold\;">**Special Presentation at 5:00 PM from Discover Wisconsin on the new &ldquo\;On and Off the Beaten Path&rdquo\; Episode filmed in the Lake Geneva Region!**</span></div>\n\n<div>&nbsp\;</div>\n\n<div>&nbsp\;</div>\n\n<div align="left" style="text-align: left\;"><span style="color: rgb(3\, 3\, 3)\; font-size: 16px\;">The Walworth County Regional Business EXPO and Career Fair is the ideal opportunity to network\, build new business relationships\, promote your products and services.&nbsp\;Up to 70&nbsp\;exhibitors will be on display to showcase their products\, meet decision makers\, and reconnect with past customers and clients.&nbsp\;Attendees can learn about job opportunities\, leading products and services\, and the latest best business practices. Throughout the expo\, we will have free professional head-shots\, raffle prizes\, 10-15 minute Business Learning Segments (ex: TED Talks) in new business trends\, tips\, training&rsquo\;s\, free consultations\, free workshop or tutorials etc.&nbsp\;If you are serious about growing or starting your business or expanding your career\, the Walworth County Regional Business Expo and Career Fair is a &ldquo\;MUST ATTEND&rdquo\; event for you.</span>\n\n<div align="left" style="text-align: left\;"><span style="color: rgb(3\, 3\, 3)\; font-size: 16px\; font-weight: bold\;">WHAT IS THE COST TO ATTEND?</span></div>\n\n<div>&nbsp\;</div>\n\n<ul>\n	<li style="color: rgb(3\, 3\, 3)\; font-size: 16px\; text-align: left\;"><span style="color: rgb(3\, 3\, 3)\; font-size: 16px\;">There is a $5.00 Admission Fee</span></li>\n</ul>\n\n<div>&nbsp\;</div>\n\n<div align="left" style="text-align: left\;"><span style="color: rgb(3\, 3\, 3)\; font-size: 16px\; font-weight: bold\;">WHY ATTEND?</span></div>\n\n<div>&nbsp\;</div>\n\n<ul>\n	<li style="color: rgb(3\, 3\, 3)\; font-size: 16px\; text-align: left\;"><span style="color: rgb(3\, 3\, 3)\; font-size: 16px\;">Network with businesses\, entrepreneurs &amp\; start-ups</span></li>\n	<li style="color: rgb(3\, 3\, 3)\; font-size: 16px\; text-align: left\;"><span style="color: rgb(3\, 3\, 3)\; font-size: 16px\;">FREE professional headshots provided by </span><a href="http://r20.rs6.net/tn.jsp?f=001MZq_TFd3vChryNQJkMJ-7jdAIcrmEvqMjJgnwlQtXrUAw3JDIDcDexjH5qRsJxFIs42Lp_moFqcnbLATnNQxaAAu95h_TXsXub9YpUIZmka7vzLgje2Pcy4Hub3ohxvXc8VQw8WOZmPAP3eeGxpzkS7dt5rXe5Wacjvn_a0cN7ZoFtjgvF1iVooDNlzV481m5-4xUq7V3quPXZJxa9TZbg==&amp\;c=XdmjivVsTB3QKapPzS6oMKBZp7n9_J1B2VPtQV7f9dE0jZHrcl-72Q==&amp\;ch=H_ZW3LdrOhiqvQrkn12WTDDdXbtG-tDvWXUB3GPzeFQepmLmpIfjXg==" style="color: rgb(3\, 3\, 3)\; font-size: 16px\; font-style: normal\; font-weight: normal\; text-decoration: none\;" target="_blank" title="This external link will open in a new window">Ideal Impressions Photography</a></li>\n	<li style="color: rgb(3\, 3\, 3)\; font-size: 16px\; text-align: left\;"><span style="color: rgb(3\, 3\, 3)\; font-size: 16px\;">Attend and learn about new business trends/tips\, workshops &amp\; seminars to help your business grow</span></li>\n	<li style="color: rgb(3\, 3\, 3)\; font-size: 16px\; text-align: left\;"><span style="color: rgb(3\, 3\, 3)\; font-size: 16px\;">Fast-paced speed-networking sessions to make new contacts quickly</span></li>\n	<li style="color: rgb(3\, 3\, 3)\; font-size: 16px\; text-align: left\;"><span style="color: rgb(3\, 3\, 3)\; font-size: 16px\;">Learn about new cutting-edge products \, services and special offers that will only be offered at the Business EXPO.&nbsp\;</span></li>\n	<li style="color: rgb(3\, 3\, 3)\; font-size: 16px\; text-align: left\;"><span style="color: rgb(3\, 3\, 3)\; font-size: 16px\;">Establish hundreds of new &amp\; valuable contacts</span></li>\n	<li style="color: rgb(3\, 3\, 3)\; font-size: 16px\; text-align: left\;"><span style="color: rgb(3\, 3\, 3)\; font-size: 16px\;">Interact with the movers and shakers of your industry.</span></li>\n	<li style="color: rgb(3\, 3\, 3)\; font-size: 16px\; text-align: left\;"><span style="color: rgb(3\, 3\, 3)\; font-size: 16px\;">Leave the show with hundreds of qualified sales leads&nbsp\;</span></li>\n</ul>\n\n<div align="left" style="text-align: left\;">&nbsp\;</div>\n\n<div align="left" style="text-align: left\;"><span style="color: rgb(3\, 3\, 3)\; font-size: 16px\;">Interested in a new job or career?&nbsp\;</span></div>\n\n<div align="left" style="text-align: left\;"><span style="color: rgb(3\, 3\, 3)\; font-size: 16px\;">Walworth County has a lot of great companies and career opportunities.</span></div>\n\n<div align="left" style="text-align: left\;"><span style="color: rgb(3\, 3\, 3)\; font-size: 16px\;">According to America&rsquo\;s Health Rankings\, the underemployment rate is 8% compared to the unemployment rate of 2.7%. Come to the expo to find a better job. Exhibitors will be able to talk to you about immediate openings as well as career options.</span></div>\n\n<div>&nbsp\;</div>\n\n<div align="left" style="text-align: left\;"><span style="color: rgb(3\, 3\, 3)\; font-size: 16px\; font-weight: bold\;">WHO CAN ATTEND?</span></div>\n\n<div>&nbsp\;</div>\n\n<ul>\n	<li style="color: rgb(3\, 3\, 3)\; font-size: 16px\; text-align: left\;"><span style="color: rgb(3\, 3\, 3)\; font-size: 16px\;">Anyone can attend a Business Expo. We encourage anyone that currently operates/owns a business or anyone that works for a business to attend.</span></li>\n	<li style="color: rgb(3\, 3\, 3)\; font-size: 16px\; text-align: left\;"><span style="color: rgb(3\, 3\, 3)\; font-size: 16px\;">If you don&rsquo\;t currently own a business or work for a business\, that&rsquo\;s okay too! Business Expo&rsquo\;s are a perfect place for you to come learn how to start &amp\; grow your own business.</span></li>\n	<li style="color: rgb(3\, 3\, 3)\; font-size: 16px\; text-align: left\;"><span style="color: rgb(3\, 3\, 3)\; font-size: 16px\;">Whether you are already an established business\, a start-up\, a Fortune 100 or anything in between\, if you care about small business\, we want to see you at Small Business Expo.</span></li>\n</ul>\n</div>\n
LOCATION:Grand Geneva Forum
UID:e.2059.8655
SEQUENCE:3
DTSTAMP:20260422T103211Z
URL:https://business.elkhornchamber.com/events/details/walworth-county-regional-business-expo-career-fair-8655
END:VEVENT

END:VCALENDAR
