BEGIN:VCALENDAR
VERSION:2.0
PRODID:-//ChamberMaster//Event Calendar 2.0//EN
METHOD:PUBLISH
X-PUBLISHED-TTL:P3D
REFRESH-INTERVAL:P3D
CALSCALE:GREGORIAN
BEGIN:VEVENT
DTSTART:20150418T190000Z
DTEND:20150418T200000Z
X-MICROSOFT-CDO-ALLDAYEVENT:FALSE
SUMMARY:Walworth County Historical Society "Show & Tell"
DESCRIPTION:You're invited to bring in your collection\, or part of it\, to show it off and tell\, or brag\, about it with other collectors and participants at Heritage Hall. Space is limited\, please call ahead to reserve space.
X-ALT-DESC;FMTTYPE=text/html:You&#39\;re invited to bring in your collection\, or part of it\, to show it off and tell\, or brag\, about it with other collectors and participants at Heritage Hall. Space is limited\, please call ahead to reserve space.
LOCATION:Heritage Hall 103 Rockwell St.\, Elkhorn
UID:e.2059.1150
SEQUENCE:3
DTSTAMP:20260424T225329Z
URL:https://business.elkhornchamber.com/events/details/walworth-county-historical-society-show-tell-04-18-2015-1150
END:VEVENT

END:VCALENDAR
