BEGIN:VCALENDAR
VERSION:2.0
PRODID:-//ChamberMaster//Event Calendar 2.0//EN
METHOD:PUBLISH
X-PUBLISHED-TTL:P3D
REFRESH-INTERVAL:P3D
CALSCALE:GREGORIAN
BEGIN:VEVENT
DTSTART:20170513T190000Z
DTEND:20170513T210000Z
X-MICROSOFT-CDO-ALLDAYEVENT:FALSE
SUMMARY:Walworth County Historical Society Dedication of Indpendant Room
DESCRIPTION:Dedication of the Independent Room
X-ALT-DESC;FMTTYPE=text/html:Dedication of the Independent Room
LOCATION:Walworth County Historical Society 210 S. Washington Street Elkhorn\, WI 53121
UID:e.2059.4745
SEQUENCE:3
DTSTAMP:20260423T061431Z
URL:https://business.elkhornchamber.com/events/details/walworth-county-historical-society-dedication-of-indpendant-room-4745
END:VEVENT

END:VCALENDAR
