BEGIN:VCALENDAR
VERSION:2.0
PRODID:-//ChamberMaster//Event Calendar 2.0//EN
METHOD:PUBLISH
X-PUBLISHED-TTL:P3D
REFRESH-INTERVAL:P3D
CALSCALE:GREGORIAN
BEGIN:VEVENT
DTSTART:20170513T150000Z
DTEND:20170513T210000Z
X-MICROSOFT-CDO-ALLDAYEVENT:FALSE
SUMMARY:Walworth County Historical Society
DESCRIPTION:Walworth County Historical Society\n\nOpen House
X-ALT-DESC;FMTTYPE=text/html:Walworth County Historical Society<br />\nOpen House<br />\n&nbsp\;
LOCATION:Walworth County Historical Society 210 S. Washington Street Elkhorn\, WI 53121
UID:e.2059.4746
SEQUENCE:3
DTSTAMP:20260423T060452Z
URL:https://business.elkhornchamber.com/events/details/walworth-county-historical-society-4746
END:VEVENT

END:VCALENDAR
