BEGIN:VCALENDAR
VERSION:2.0
PRODID:-//ChamberMaster//Event Calendar 2.0//EN
METHOD:PUBLISH
X-PUBLISHED-TTL:P3D
REFRESH-INTERVAL:P3D
CALSCALE:GREGORIAN
BEGIN:VEVENT
DTSTART;VALUE=DATE:20171104
DTEND;VALUE=DATE:20171105
TRANSP:TRANSPARENT
X-MICROSOFT-CDO-ALLDAYEVENT:TRUE
SUMMARY:Walworth County Historical Society 1940's USO Style Dance
DESCRIPTION:The Walworth County Historical Society is looking to raise funds for a project to host a "1940's USO Style Dance".\n\nMore information to follow.
X-ALT-DESC;FMTTYPE=text/html:The Walworth County Historical Society is looking to raise funds for a project to host a &quot\;1940&#39\;s USO Style Dance&quot\;.<br />\nMore information to follow.
LOCATION:Monte Carlo Room 720 N Wisconsin St Elkhorn\, Wisconsin\, WI 53121
UID:e.2059.6087
SEQUENCE:3
DTSTAMP:20260422T201713Z
URL:https://business.elkhornchamber.com/events/details/walworth-county-historical-society-1940-s-uso-style-dance-6087
END:VEVENT

END:VCALENDAR
