BEGIN:VCALENDAR
VERSION:2.0
PRODID:-//ChamberMaster//Event Calendar 2.0//EN
METHOD:PUBLISH
X-PUBLISHED-TTL:P3D
REFRESH-INTERVAL:P3D
CALSCALE:GREGORIAN
BEGIN:VEVENT
DTSTART:20140830T130000Z
DTEND:20140830T170000Z
X-MICROSOFT-CDO-ALLDAYEVENT:FALSE
SUMMARY:Walworth County Farmer's Market
DESCRIPTION:Farm fresh produce\, plants and more!
X-ALT-DESC;FMTTYPE=text/html:Farm fresh produce\, plants and more!
LOCATION:Veterans Park 100 W. Walworth Street Downtown Elkhorn
UID:e.2059.53
SEQUENCE:3
DTSTAMP:20260425T134051Z
URL:https://business.elkhornchamber.com/events/details/walworth-county-farmer-s-market-08-30-2014-53
END:VEVENT

END:VCALENDAR
