BEGIN:VCALENDAR
VERSION:2.0
PRODID:-//ChamberMaster//Event Calendar 2.0//EN
METHOD:PUBLISH
X-PUBLISHED-TTL:P3D
REFRESH-INTERVAL:P3D
CALSCALE:GREGORIAN
BEGIN:VEVENT
DTSTART:20170617T110000Z
DTEND:20170617T153000Z
X-MICROSOFT-CDO-ALLDAYEVENT:FALSE
SUMMARY:Walworth County Farm Bureau Dairy Breakfast
DESCRIPTION:Set your alarm clock for this do not miss event! Hosted by the Walworth County Farm Bureau.\n\n\n\nBreakfast\, entertainment\, craft show and more at the Walworth County Fairgrounds\, Elkhorn\, Wisconsin.\n\n\n\nFREE bus transit available to the 2017 Farm Tour hosts\, the Sterken Farm\, featuring Dairy Cows and Dairy Goats.\n\n\n\nBreakfast being served between 6:00 am and 10:30\n\nActivities go until noon.\n\n\n\nTickets Now on Sale at several location around the county.\n\n$7.00 in advanced and $8.00 at the gate.\n\n\n\nDirect link to the Walworth County Farm Bureau Dairy Breakfast event page: https://www.facebook.com/events/1396754357014617/\n\n\n\nFor further information\, contact the Walworth County Farm Bureau at (262) 723-2613.
X-ALT-DESC;FMTTYPE=text/html:<span class="_4n-j _fbReactionComponent__eventDetailsContentTags fsl" data-testid="event-permalink-details">Set your alarm clock for this do not miss event! Hosted by the Walworth County Farm Bureau.<br />\n<br />\nBreakfast\, entertainment\, craft show and more at the Walworth County Fairgrounds\, Elkhorn\, Wisconsin.<br />\n<br />\nFREE bus transit available to the 2017 Farm Tour hosts\, the Sterken Farm\, featuring Dairy Cows and Dairy Goats.<br />\n<br />\nBreakfast being served between 6:00 am and 10:30<br />\nActivities go until noon.<br />\n<br />\nTickets Now on Sale at several location around the county.<br />\n$7.00 in advanced and $8.00 at the gate.<br />\n<br />\n<span class="text_exposed_show">Direct link to the Walworth County Farm Bureau Dairy Breakfast event page: <a href="https://www.facebook.com/events/1396754357014617/" rel="nofollow"><span>https://www.facebook.com/</span><wbr />events/1396754357014617/</a><br />\n<br />\nFor further information\, contact the Walworth County Farm Bureau at (262) 723-2613.</span></span>
LOCATION:Walworth County Fairgrounds 411 E. Court Street Elkhorn\, WI
UID:e.2059.5477
SEQUENCE:3
DTSTAMP:20260423T055750Z
URL:https://business.elkhornchamber.com/events/details/walworth-county-farm-bureau-dairy-breakfast-5477
END:VEVENT

END:VCALENDAR
