BEGIN:VCALENDAR
VERSION:2.0
PRODID:-//ChamberMaster//Event Calendar 2.0//EN
METHOD:PUBLISH
X-PUBLISHED-TTL:P3D
REFRESH-INTERVAL:P3D
CALSCALE:GREGORIAN
BEGIN:VEVENT
DTSTART:20190615T110000Z
DTEND:20190615T153000Z
X-MICROSOFT-CDO-ALLDAYEVENT:FALSE
SUMMARY:Walworth County Farm Bureau Dairy Breakfast
DESCRIPTION:Take a tour\, see live animals\, crafters and a tour of Walworth County while eating a delicious full breakfast at the Walworth County Farm Bureau Dairy Breakfast.
X-ALT-DESC;FMTTYPE=text/html:Take a tour\, see live animals\, crafters and a tour of Walworth County while eating a delicious full breakfast at the Walworth&nbsp\;County Farm Bureau Dairy Breakfast.&nbsp\;
LOCATION:Walworth County Fairgrounds 411 East Court St Elkhorn\, Wi
UID:e.2059.10274
SEQUENCE:3
DTSTAMP:20260421T032857Z
URL:https://business.elkhornchamber.com/events/details/walworth-county-farm-bureau-dairy-breakfast-10274
END:VEVENT

END:VCALENDAR
