BEGIN:VCALENDAR
VERSION:2.0
PRODID:-//ChamberMaster//Event Calendar 2.0//EN
METHOD:PUBLISH
X-PUBLISHED-TTL:P3D
REFRESH-INTERVAL:P3D
CALSCALE:GREGORIAN
BEGIN:VEVENT
DTSTART:20161029T130000Z
DTEND:20161029T160000Z
X-MICROSOFT-CDO-ALLDAYEVENT:FALSE
SUMMARY:Walworth County Emergency Homeless Shelter Breakfast
DESCRIPTION:Join the Walworth County Emergency Homeless Shelter as they host a  Sausage Gravy & Biscuit Breakfast.\n\nBreakfast wil also include Scrambled eggs\, hash browns and a Beverage.
X-ALT-DESC;FMTTYPE=text/html:Join the Walworth County Emergency Homeless Shelter as they host a&nbsp\; Sausage Gravy &amp\; Biscuit Breakfast.<br />\nBreakfast wil also include Scrambled eggs\, hash browns and a Beverage.
LOCATION:Chapel on the Hill N2440 Ara Glen Drive Lake Geneva\, WI
UID:e.2059.4554
SEQUENCE:3
DTSTAMP:20260423T185402Z
URL:https://business.elkhornchamber.com/events/details/walworth-county-emergency-homeless-shelter-breakfast-4554
END:VEVENT

END:VCALENDAR
