BEGIN:VCALENDAR
VERSION:2.0
PRODID:-//ChamberMaster//Event Calendar 2.0//EN
METHOD:PUBLISH
X-PUBLISHED-TTL:P3D
REFRESH-INTERVAL:P3D
CALSCALE:GREGORIAN
BEGIN:VEVENT
DTSTART:20160609T131500Z
DTEND:20160609T173000Z
X-MICROSOFT-CDO-ALLDAYEVENT:FALSE
SUMMARY:Walworth County Dementia Conference
DESCRIPTION:The ABC's of Dementia Care: Assessment\, Behaviors and Communication brought to you by A Day in Time\, Inc.\n\n\n\n- Family Caregivers Welcomed\n\n- Professional Caregivers Welcomed
X-ALT-DESC;FMTTYPE=text/html:The ABC&#39\;s of Dementia Care: Assessment\, Behaviors and Communication brought to you by A Day in Time\, Inc.<br />\n<br />\n- Family Caregivers Welcomed<br />\n- Professional Caregivers Welcomed
LOCATION:Evergreen Country Club N6246 US Hwy 12 Elkhorn\, WI
UID:e.2059.3470
SEQUENCE:3
DTSTAMP:20260423T234553Z
URL:https://business.elkhornchamber.com/events/details/walworth-county-dementia-conference-06-09-2016-3470
END:VEVENT

END:VCALENDAR
