BEGIN:VCALENDAR
VERSION:2.0
PRODID:-//ChamberMaster//Event Calendar 2.0//EN
METHOD:PUBLISH
X-PUBLISHED-TTL:P3D
REFRESH-INTERVAL:P3D
CALSCALE:GREGORIAN
BEGIN:VEVENT
DTSTART:20170425T130000Z
DTEND:20170425T170000Z
X-MICROSOFT-CDO-ALLDAYEVENT:FALSE
SUMMARY:Walworth County Business EXPO & Job Fair
DESCRIPTION:Join us from 8:00am until Noon to network business to business with up to 70 exhibitors\, discover the latest products and build relationships!\n\nJob Fair:  Job Fair participants don't forget to bring your resume! Entry for you is Free! Check in at registration for a list of exhibitors that are looking to hire someone just like you!\n\nEXPO Keynote Speaker:\n\nJohn G. Blumberg\n\nAuthor or Return of Integrity\n\nJohn Blumberg will be presenting from 10:00am until 11:00am followed by his book's signing from 11:00 until 11:45am. John's message is always centered on the core concept of building a Return of Integrity..Organizationally and personally.
X-ALT-DESC;FMTTYPE=text/html:Join us from 8:00am until Noon to network business to business with up to 70 exhibitors\, discover the latest products and build relationships!<br />\nJob Fair:&nbsp\; Job Fair participants don&#39\;t forget to bring your resume! Entry for you is Free! Check in at registration for a list of exhibitors that are looking to hire someone just like you!<br />\nEXPO Keynote Speaker:<br />\nJohn G. Blumberg<br />\nAuthor or Return of Integrity<br />\nJohn Blumberg will be presenting from 10:00am until 11:00am followed by his book&#39\;s signing from 11:00 until 11:45am. John&#39\;s message is always centered on the core concept of building a Return of Integrity..Organizationally and personally.
LOCATION:In the Forum at Grand Geneva Resort & Spa 7036 Grand Geneva Way\, Lake Geneva\, WI
UID:e.2059.5048
SEQUENCE:3
DTSTAMP:20260423T074949Z
URL:https://business.elkhornchamber.com/events/details/walworth-county-business-expo-job-fair-5048
END:VEVENT

END:VCALENDAR
