BEGIN:VCALENDAR
VERSION:2.0
PRODID:-//ChamberMaster//Event Calendar 2.0//EN
METHOD:PUBLISH
X-PUBLISHED-TTL:P3D
REFRESH-INTERVAL:P3D
CALSCALE:GREGORIAN
BEGIN:VEVENT
DTSTART:20181218T010000Z
DTEND:20181218T010000Z
X-MICROSOFT-CDO-ALLDAYEVENT:FALSE
SUMMARY:Walworth County Agricultural Societ Annual Meeting
DESCRIPTION:Walworth County Agricultural Society Inc.'s Annual Meeting.
X-ALT-DESC;FMTTYPE=text/html:Walworth County Agricultural Society Inc.&#39\;s Annual Meeting.
LOCATION:Walworth County Fairgrounds 411 E. Court Street Elkhorn\, WI
UID:e.2059.8918
SEQUENCE:3
DTSTAMP:20260421T204938Z
URL:https://business.elkhornchamber.com/events/details/walworth-county-agricultural-societ-annual-meeting-8918
END:VEVENT

END:VCALENDAR
