BEGIN:VCALENDAR
VERSION:2.0
PRODID:-//ChamberMaster//Event Calendar 2.0//EN
METHOD:PUBLISH
X-PUBLISHED-TTL:P3D
REFRESH-INTERVAL:P3D
CALSCALE:GREGORIAN
BEGIN:VEVENT
DTSTART:20191211T133000Z
DTEND:20191211T143000Z
X-MICROSOFT-CDO-ALLDAYEVENT:FALSE
SUMMARY:Walk to end Alzheimer's Leadership Roundtable
DESCRIPTION:Please join us to discuss opportunities for involvment with one of the community's most inspiring events. Leadership Roundtable at Grand Geneva Resort & Spa on Wednesday\, December 11th at 7:30 am - 8:30 am. Please RSVP to tjruffing@alz.org by December 4th.
X-ALT-DESC;FMTTYPE=text/html:Please join us to discuss opportunities for involvment with one of the community&#39\;s most inspiring events. Leadership Roundtable at Grand Geneva Resort &amp\; Spa on Wednesday\, December 11th at 7:30 am - 8:30 am. Please RSVP to tjruffing@alz.org by December 4th.&nbsp\;
LOCATION:Grand Geneva Resort & Spa 7036 Grand Geneva Way Lake Geneva\, WI 53147
UID:e.2059.11306
SEQUENCE:3
DTSTAMP:20260419T234527Z
URL:https://business.elkhornchamber.com/events/details/walk-to-end-alzheimer-s-leadership-roundtable-11306
END:VEVENT

END:VCALENDAR
