BEGIN:VCALENDAR
VERSION:2.0
PRODID:-//ChamberMaster//Event Calendar 2.0//EN
METHOD:PUBLISH
X-PUBLISHED-TTL:P3D
REFRESH-INTERVAL:P3D
CALSCALE:GREGORIAN
BEGIN:VEVENT
DTSTART:20170916T133000Z
DTEND:20170916T133000Z
X-MICROSOFT-CDO-ALLDAYEVENT:FALSE
SUMMARY:Walk to End Alzheimer's
DESCRIPTION:Join the fight for Alzheimer's first survivor. Walk with us Walworth County!
X-ALT-DESC;FMTTYPE=text/html:Join the fight for Alzheimer&#39\;s first survivor. Walk with us Walworth County!<br />\n&nbsp\;
LOCATION:Library Park\, Lake Geneva\, Wi
UID:e.2059.5494
SEQUENCE:3
DTSTAMP:20260422T233044Z
URL:https://business.elkhornchamber.com/events/details/walk-to-end-alzheimer-s-5494
END:VEVENT

END:VCALENDAR
