BEGIN:VCALENDAR
VERSION:2.0
PRODID:-//ChamberMaster//Event Calendar 2.0//EN
METHOD:PUBLISH
X-PUBLISHED-TTL:P3D
REFRESH-INTERVAL:P3D
CALSCALE:GREGORIAN
BEGIN:VEVENT
DTSTART:20160808T233000Z
DTEND:20160809T010000Z
X-MICROSOFT-CDO-ALLDAYEVENT:FALSE
SUMMARY:Walk\, Talk\, and Gawk through Elkhorn
DESCRIPTION:Join UW Extension educator Jenny Wehmeier as she takes us on a walk around the town square. While we're walking\, she'll discuss the Get Moving Walworth County health initiative\, and ways to stay active.\n\n\n\nThis presentation is part of our Adult Summer Reading Program. For attending this program\, you receive a free drawing for one of our numerous Grand Prizes!
X-ALT-DESC;FMTTYPE=text/html:Join UW Extension educator Jenny Wehmeier as she takes us on a walk around the town square. While we&#39\;re walking\, she&#39\;ll discuss the Get Moving Walworth County health initiative\, and ways to stay active.<br />\n<br />\n<em>This presentation is part of our Adult Summer Reading Program. For attending this program\, you receive a free drawing for one of our numerous Grand Prizes!</em>
LOCATION:Matheson Memorial Library - Community Center
UID:e.2059.3581
SEQUENCE:3
DTSTAMP:20260423T204711Z
URL:https://business.elkhornchamber.com/events/details/walk-talk-and-gawk-through-elkhorn-08-08-2016-3581
END:VEVENT

END:VCALENDAR
