BEGIN:VCALENDAR
VERSION:2.0
PRODID:-//ChamberMaster//Event Calendar 2.0//EN
METHOD:PUBLISH
X-PUBLISHED-TTL:P3D
REFRESH-INTERVAL:P3D
CALSCALE:GREGORIAN
BEGIN:VEVENT
DTSTART;VALUE=DATE:20171006
DTEND;VALUE=DATE:20171008
TRANSP:TRANSPARENT
X-MICROSOFT-CDO-ALLDAYEVENT:TRUE
SUMMARY:Wal Co. Clean Sweep Household Hazardous Waste
DESCRIPTION:Clean Sweep is dedicated to the collection & proper disposal of household hazardous waste products.\n\nWhat is household hazardous waste?\n\nIt is the unusable portion of a household product containing volatile chemicals that are flammable\, corrosive\, explosive\, reactive\, toxic or radioactive. These products are identified by looking at labels\, which are generally marked CAUSTIC\, ACID\, DANGER\, FLAMMABLE\, WARNING\, or POISON.\n\n**REMINDER** Medications will not be collected at the clean sweep event.\n\n\n\nCollection Location #1\n\nPublic Works Complex\n\nCity of Whitewater: 150 East Starin Road\, Whitewater\n\nOPEN ONLY FRIDAY\, October 6th\n\n3:00pm-5:00pm\n\n\n\nCollection Location #2\n\nCity of Delavan: 490 Richmond Rd (County Hwy M & P)\n\nOPEN ONLY FRIDAY\, October 6th\n\n3:00pm-5:00pm\n\n\n\nCollection Location #3\n\nWalworth County Public Works Department\n\nW4097 County Rd NN\, Elkhorn\n\nOPEN ONLY on SATURDAY\, October 7th\n\n8:00am - Noon
X-ALT-DESC;FMTTYPE=text/html:Clean Sweep is dedicated to the collection &amp\; proper disposal of household hazardous waste products.<br />\nWhat is household hazardous waste?<br />\nIt is the unusable portion of a household product containing volatile chemicals that are flammable\, corrosive\, explosive\, reactive\, toxic or radioactive. These products are identified by looking at labels\, which are generally marked CAUSTIC\, ACID\, DANGER\, FLAMMABLE\, WARNING\, or POISON.<br />\n**REMINDER** Medications will not be collected at the clean sweep event.<br />\n<br />\nCollection Location #1<br />\nPublic Works Complex<br />\nCity of Whitewater: 150 East Starin Road\, Whitewater<br />\nOPEN ONLY FRIDAY\, October 6th<br />\n3:00pm-5:00pm<br />\n<br />\nCollection Location #2<br />\nCity of Delavan: 490 Richmond Rd (County Hwy M &amp\; P)<br />\nOPEN ONLY FRIDAY\, October 6th<br />\n3:00pm-5:00pm<br />\n<br />\nCollection Location #3<br />\nWalworth County Public Works Department<br />\nW4097 County Rd NN\, Elkhorn<br />\nOPEN ONLY on SATURDAY\, October 7th<br />\n8:00am - Noon<br />\n<br />\n<br />\n&nbsp\;
LOCATION:Public Works Complex City of Whitewater: 150 East Starin Road\, Whitewater City of Delavan: 490 Richmond Rd (County Hwy M & P) Walworth County Public Works Department W4097 County Rd NN\, Elkhorn
UID:e.2059.5078
SEQUENCE:3
DTSTAMP:20260422T201408Z
URL:https://business.elkhornchamber.com/events/details/wal-co-clean-sweep-household-hazardous-waste-5078
END:VEVENT

END:VCALENDAR
