BEGIN:VCALENDAR
VERSION:2.0
PRODID:-//ChamberMaster//Event Calendar 2.0//EN
METHOD:PUBLISH
X-PUBLISHED-TTL:P3D
REFRESH-INTERVAL:P3D
CALSCALE:GREGORIAN
BEGIN:VEVENT
DTSTART:20181111T163000Z
DTEND:20181111T210000Z
X-MICROSOFT-CDO-ALLDAYEVENT:FALSE
SUMMARY:Veterans Day Museum program & Museum free tours - Walworth County Historical Society
DESCRIPTION:Veterans Day Museum program & Museum free tours - Walworth County Historical Society
X-ALT-DESC;FMTTYPE=text/html:Veterans Day Museum program &amp\; Museum free tours - Walworth County Historical Society
LOCATION:Webster House 103 E Rockwell Street\, Elkhorn WI
UID:e.2059.9442
SEQUENCE:3
DTSTAMP:20260422T002446Z
URL:https://business.elkhornchamber.com/events/details/veterans-day-museum-program-museum-free-tours-walworth-county-historical-society-9442
END:VEVENT

END:VCALENDAR
