BEGIN:VCALENDAR
VERSION:2.0
PRODID:-//ChamberMaster//Event Calendar 2.0//EN
METHOD:PUBLISH
X-PUBLISHED-TTL:P3D
REFRESH-INTERVAL:P3D
CALSCALE:GREGORIAN
BEGIN:VEVENT
DTSTART:20161111T190000Z
DTEND:20161111T190000Z
X-MICROSOFT-CDO-ALLDAYEVENT:FALSE
SUMMARY:Veteran's Day program honors Walworth County Veterans
DESCRIPTION:The fourth annual Veteran's Day program honoring Walworth County residents who served in the U.S. Armed Forces will be hosted by the Walworth County Historical Society. The event will take place at 1pm Friday\, November 11th at Heritage Hall in Elkhorn. In attendance will be the Daughters of the Union Veterans Civil War and the Daughters of American Revolution.  The keynote Speaker will be Ron Borowski\, a U.S. Army veteran who served from 1960-1963. Borowski is currently a Stars an Stripes Honor Flight volunteer and member of their speaker's bureau. Veterans and current military personnel will be introduced\, refreshments will be served and the Veterans Museum at the Walworth County Historical Society will be open for tours.
X-ALT-DESC;FMTTYPE=text/html:The fourth annual Veteran&#39\;s Day program honoring Walworth County residents who served in the U.S. Armed Forces will be hosted by the Walworth County Historical Society. The event will take place at 1pm Friday\, November 11th at Heritage Hall in Elkhorn. In attendance will be the Daughters of the Union Veterans Civil War and the Daughters of American Revolution.&nbsp\; The keynote Speaker will be Ron Borowski\, a U.S. Army veteran who served from 1960-1963. Borowski is currently a Stars an Stripes Honor Flight volunteer and member of their speaker&#39\;s bureau. Veterans and current military personnel will be introduced\, refreshments will be served and the Veterans Museum at the Walworth County Historical Society will be open for tours.
LOCATION:Heritage Hall 103 E. Rockwell st Elkhorn\, Wi
UID:e.2059.4557
SEQUENCE:3
DTSTAMP:20260423T153330Z
URL:https://business.elkhornchamber.com/events/details/veteran-s-day-program-honors-walworth-county-veterans-4557
END:VEVENT

END:VCALENDAR
