BEGIN:VCALENDAR
VERSION:2.0
PRODID:-//ChamberMaster//Event Calendar 2.0//EN
METHOD:PUBLISH
X-PUBLISHED-TTL:P3D
REFRESH-INTERVAL:P3D
CALSCALE:GREGORIAN
BEGIN:VEVENT
DTSTART:20150124T163000Z
DTEND:20150124T173000Z
X-MICROSOFT-CDO-ALLDAYEVENT:FALSE
SUMMARY:Valentine Card Making Program
DESCRIPTION:You will have the opportunity to make up to 3 different cards at Matheson Memorial Library and you don't have to bring a thing. Registration is required and space is limited to 15 adults only.
X-ALT-DESC;FMTTYPE=text/html:You will have the opportunity to make up to 3 different cards at Matheson Memorial Library and you don&#39\;t have to bring a thing. Registration is required and space is limited to 15 adults only.
LOCATION:Matheson Memorial Library 101 N. Wisconsin St.\, Elkhorn
UID:e.2059.805
SEQUENCE:3
DTSTAMP:20260425T035933Z
URL:https://business.elkhornchamber.com/events/details/valentine-card-making-program-01-24-2015-805
END:VEVENT

END:VCALENDAR
